BEGIN:VCALENDAR
VERSION:2.0
PRODID:-//Denver SPE - ECPv6.15.20//NONSGML v1.0//EN
CALSCALE:GREGORIAN
METHOD:PUBLISH
X-ORIGINAL-URL:https://denverspe.org
X-WR-CALDESC:Events for Denver SPE
REFRESH-INTERVAL;VALUE=DURATION:PT1H
X-Robots-Tag:noindex
X-PUBLISHED-TTL:PT1H
BEGIN:VTIMEZONE
TZID:America/Denver
BEGIN:DAYLIGHT
TZOFFSETFROM:-0700
TZOFFSETTO:-0600
TZNAME:MDT
DTSTART:20220313T090000
END:DAYLIGHT
BEGIN:STANDARD
TZOFFSETFROM:-0600
TZOFFSETTO:-0700
TZNAME:MST
DTSTART:20221106T080000
END:STANDARD
BEGIN:DAYLIGHT
TZOFFSETFROM:-0700
TZOFFSETTO:-0600
TZNAME:MDT
DTSTART:20230312T090000
END:DAYLIGHT
BEGIN:STANDARD
TZOFFSETFROM:-0600
TZOFFSETTO:-0700
TZNAME:MST
DTSTART:20231105T080000
END:STANDARD
BEGIN:DAYLIGHT
TZOFFSETFROM:-0700
TZOFFSETTO:-0600
TZNAME:MDT
DTSTART:20240310T090000
END:DAYLIGHT
BEGIN:STANDARD
TZOFFSETFROM:-0600
TZOFFSETTO:-0700
TZNAME:MST
DTSTART:20241103T080000
END:STANDARD
END:VTIMEZONE
BEGIN:VEVENT
DTSTART;TZID=America/Denver:20230221T064500
DTEND;TZID=America/Denver:20230221T083000
DTSTAMP:20260420T153336
CREATED:20230118T034633Z
LAST-MODIFIED:20230118T034648Z
UID:2324-1676961900-1676968200@denverspe.org
SUMMARY:Volunteer at the Denver Rescue Mission
DESCRIPTION:Please help SPE Denver Section give back to the Denver Rescue Mission by serving breakfast at their Lawrence Street location. \n  \nPlease arrive by 6:45 and plan to stay till 8:30 \n  \nFor more info Contact Nicolas Cosca at Nicolas.Cosca@hpinc.com
URL:https://denverspe.org/event/volunteer-at-the-denver-rescue-mission/
LOCATION:Denver Rescue Mission\, 2222 Lawrence St\, Denver\, CO\, 80205\, United States
CATEGORIES:Outreach
END:VEVENT
BEGIN:VEVENT
DTSTART;TZID=America/Denver:20230221T160000
DTEND;TZID=America/Denver:20230221T180000
DTSTAMP:20260420T153336
CREATED:20230130T150053Z
LAST-MODIFIED:20230208T203704Z
UID:1810-1676995200-1677002400@denverspe.org
SUMMARY:February - Completions Technical Happy Hour
DESCRIPTION:  \nHost:  Society of Petroleum Engineers\, Denver Section \n  \nEvent:  Tuesday February 21st\, 2023 Technical Happy Hour \n  \nTime:  February 21st\, 2023 4-6 pm (HH at 4\, Talk at 430\, Social until 6) \n  \nLocation:  DERL \n  \nSponsor: DynaEnergetics \n  \nStudy Group Category:  Completions \n  \nSpeaker:  Adam McQueen\, Market Development Manager at DynaEnergietics \n\nTitle:  Optimization of Perforation Efficiency in the Delaware Basin Through Perforating and Innovative Perforating Charge: A Case Study \n  \nAbstract: \nThis case study looked to identify a perforation design and a perforation charge that measurably increases Perforation Efficiency (PE) and reduces PE variability from stage to stage. Achieving these goals allows for more economic fracture surface area generation as well as more informed decisions toward frac design and full field development. \nPrimarily relying on industry-standard pre-fracture Step-Down Tests (SDT) to estimate number of perforation holes open\, a variety of strategies and technologies were tested by altering perforation friction\, orientation\, entry hole diameter (EHD)\, perforations per cluster (PPC)\, and charge type. The trial was performed across multiple horizons in the Delaware Basin\, consisting of over 4\,500 stages from 193 wells across 13 horizons from the 1st Bone Spring Sand to the Wolfcamp C in Lea and Eddy Counties\, New Mexico. \nWith the legacy perforation strategy and technology\, the operator historically achieved a probability 50 (P50) using the cumulative distribution function (CDF) of 47% of perforations open pre-fracture. Utilizing eXtreme Limited Entry (XLE)\, 0 degree-oriented perforating\, larger EHD\, single perforation clusters\, and a shaped charge which increases the reservoir contact area\, the operator was able to increase the CDF P50 to 93% of perforations open pre-fracture. \nThis straightforward trial allowed the operator to meaningfully reduce the cost of operations while type curves were met or exceeded. Contributing to the success of this field trial was a clear and restricted design of the experiment in combination with a special shale-optimized perforating charge designed for greater near wellbore reservoir contact area. \n  \nBio: \nWith a Chemical Engineering degree from Georgia Tech\, Adam McQueen journeyed across most of the lower 48 shale basins as a field engineer with Calfrac. He relocated to Denver in 2012 to join the fracturing technical & sales team at Sanjel. After leading technical sales for Keane in Denver starting in 2014\, he became regional director of sales when Keane merged with C&J to form NexTier. Today\, he’s at DynaEnergetics\, bringing his fracturing expertise to the perforating game. \nOutside of work\, Adam enjoys time with his family: wife Val\, daughter Nora\, and son Benson. Adam and Val took a yearlong sabbatical in 2017 to travel the world before starting their family.
URL:https://denverspe.org/event/february-completions-technical-happy-hour/
LOCATION:CO
CATEGORIES:General
END:VEVENT
END:VCALENDAR