BEGIN:VCALENDAR
VERSION:2.0
PRODID:-//Denver SPE - ECPv6.15.20//NONSGML v1.0//EN
CALSCALE:GREGORIAN
METHOD:PUBLISH
X-ORIGINAL-URL:https://denverspe.org
X-WR-CALDESC:Events for Denver SPE
REFRESH-INTERVAL;VALUE=DURATION:PT1H
X-Robots-Tag:noindex
X-PUBLISHED-TTL:PT1H
BEGIN:VTIMEZONE
TZID:America/Denver
BEGIN:DAYLIGHT
TZOFFSETFROM:-0700
TZOFFSETTO:-0600
TZNAME:MDT
DTSTART:20220313T090000
END:DAYLIGHT
BEGIN:STANDARD
TZOFFSETFROM:-0600
TZOFFSETTO:-0700
TZNAME:MST
DTSTART:20221106T080000
END:STANDARD
BEGIN:DAYLIGHT
TZOFFSETFROM:-0700
TZOFFSETTO:-0600
TZNAME:MDT
DTSTART:20230312T090000
END:DAYLIGHT
BEGIN:STANDARD
TZOFFSETFROM:-0600
TZOFFSETTO:-0700
TZNAME:MST
DTSTART:20231105T080000
END:STANDARD
BEGIN:DAYLIGHT
TZOFFSETFROM:-0700
TZOFFSETTO:-0600
TZNAME:MDT
DTSTART:20240310T090000
END:DAYLIGHT
BEGIN:STANDARD
TZOFFSETFROM:-0600
TZOFFSETTO:-0700
TZNAME:MST
DTSTART:20241103T080000
END:STANDARD
END:VTIMEZONE
BEGIN:VEVENT
DTSTART;VALUE=DATE:20230303
DTEND;VALUE=DATE:20230306
DTSTAMP:20260420T134213
CREATED:20221227T052443Z
LAST-MODIFIED:20230105T020653Z
UID:2211-1677801600-1678060799@denverspe.org
SUMMARY:2023 YPE/SPE YP Ski Fast Energy Bash
DESCRIPTION:Welcome to the annual 2023 YPE –SPE YP Ski Fast Energy Convention co-hosted by YPE Denver and SPE International’s Denver Section! If you’re a ski or snowboard enthusiast and in the oil & gas\, renewables\, or the energy industry\, you won’t want to miss this blast of an event! This year we’ll be taking over the slopes of Keystone on March 3rd-5th\, with tons of skiing\, food\, drinks\, fun\, and great networking throughout the weekend! \nWe’ll have a ski bus traveling up on Friday from downtown Denver\, with the Main Event Après Ski Party on Friday afternoon. Several other events and networking opportunities are planned for the remainder of the weekend\, including a dinner party Saturday night and the now-famous shirtless closing run on Saturday – snow or shine! \nRegistration this year is a-la-carte. We hope you will stay the weekend and enjoy the slopes\, great people\, and all the exciting events. Plan to buy tickets for the days you’ll ski! We’ll be skiing Friday 3/3 and Saturday 3/4. The bus will be leaving late morning Sunday 3/5 returning to Denver. Feel free to attend any and all events\, even if you don’t ski! \nQuestions? Contact YPE Ski Trip Chair\, Maureen (maureen.evenson@gmail.com). \nRegistration Options \nWeekend Bundle \n\nPre Sale: $620 (Valid until 10/31/2022)\nBlue Run: $670 (Valid 11/1/2022 –12/31/2022)\nLast Minute Guy: $720 (1/1/2023–3/1/2023)\n\nWeekend bundle includes transportation\, lodging (we have two townhouses and one mansion reserved)\, and all al la carte items. BUNDLES DO NOT INCLUDE LIFT TICKETS. Once you’ve registered\, we will reach out with more details on lodging. \nA la Carte \n\nFriday Main Après: $65\nSaturday Afternoon Après: $15\nSaturday Night Dinner Party: $40\nBus Friday to Mountain: $40\nBus Sunday from Mountain: $40\n\nLift Tickets \nDon’t forget your lift tickets! Single-day tickets are available for purchase on the Keystone website (https://www.keystoneresort.com/plan-your-trip/lift-access/tickets) or the Epic Pass website (https://www.epicpass.com). We recommend purchasing tickets as soon as possible for pre-season discounts. \nSponsorship Opportunities \nWe have plenty of opportunities\, big and small\, to sponsor! If you are interested in sponsoring this fantastic event\, please visit our event Sponsorship page (https://www.eventbrite.com/e/sponsorships-2023-spe-ype-ski-fast-energy-bash-tickets-441969702277). Questions? Contact Andrew Johnson at SPE YP (AJohnson23@slb.com; or Maureen Evenson at YPE (maureen.evenson@gmail.com; 612-759-8688). \nWe look forward to seeing you again this year for the 2023 YPE –SPE YP Ski Fast Energy Convention!! \n  \n-YPE Denver \n-SPE Denver\, Young Professionals \nRegister Here
URL:https://denverspe.org/event/2023-ype-spe-yp-ski-fast-energy-bash/
LOCATION:Keystone Resort\, 100 Dercum Square\, Keystone\, Colorado\, 80435
CATEGORIES:General,Young Professionals
END:VEVENT
END:VCALENDAR