BEGIN:VCALENDAR
VERSION:2.0
PRODID:-//Denver SPE - ECPv6.15.20//NONSGML v1.0//EN
CALSCALE:GREGORIAN
METHOD:PUBLISH
X-ORIGINAL-URL:https://denverspe.org
X-WR-CALDESC:Events for Denver SPE
REFRESH-INTERVAL;VALUE=DURATION:PT1H
X-Robots-Tag:noindex
X-PUBLISHED-TTL:PT1H
BEGIN:VTIMEZONE
TZID:America/Denver
BEGIN:DAYLIGHT
TZOFFSETFROM:-0700
TZOFFSETTO:-0600
TZNAME:MDT
DTSTART:20220313T090000
END:DAYLIGHT
BEGIN:STANDARD
TZOFFSETFROM:-0600
TZOFFSETTO:-0700
TZNAME:MST
DTSTART:20221106T080000
END:STANDARD
BEGIN:DAYLIGHT
TZOFFSETFROM:-0700
TZOFFSETTO:-0600
TZNAME:MDT
DTSTART:20230312T090000
END:DAYLIGHT
BEGIN:STANDARD
TZOFFSETFROM:-0600
TZOFFSETTO:-0700
TZNAME:MST
DTSTART:20231105T080000
END:STANDARD
BEGIN:DAYLIGHT
TZOFFSETFROM:-0700
TZOFFSETTO:-0600
TZNAME:MDT
DTSTART:20240310T090000
END:DAYLIGHT
BEGIN:STANDARD
TZOFFSETFROM:-0600
TZOFFSETTO:-0700
TZNAME:MST
DTSTART:20241103T080000
END:STANDARD
END:VTIMEZONE
BEGIN:VEVENT
DTSTART;TZID=America/Denver:20230321T064500
DTEND;TZID=America/Denver:20230321T083000
DTSTAMP:20260420T134210
CREATED:20230306T043438Z
LAST-MODIFIED:20230306T043438Z
UID:2462-1679381100-1679387400@denverspe.org
SUMMARY:Volunteer at the Denver Rescue Mission
DESCRIPTION:Please help SPE Denver Section give back to the Denver Rescue Mission by serving breakfast at their Lawrence Street location. \n  \nPlease arrive by 6:45 and plan to stay till 8:30 \n  \nFor more info Contact Nicolas Cosca at Nicolas.Cosca@hpinc.com
URL:https://denverspe.org/event/volunteer-at-the-denver-rescue-mission-2/
LOCATION:Denver Rescue Mission\, 2222 Lawrence St\, Denver\, CO\, 80205\, United States
CATEGORIES:Outreach
END:VEVENT
BEGIN:VEVENT
DTSTART;TZID=America/Denver:20230321T160000
DTEND;TZID=America/Denver:20230321T180000
DTSTAMP:20260420T134210
CREATED:20230303T052918Z
LAST-MODIFIED:20230315T125548Z
UID:1815-1679414400-1679421600@denverspe.org
SUMMARY:Technical Happy Hour​ - Dapo Adejare - Production analysis and production forecasting in unconventional reservoirs using initial production data
DESCRIPTION:Host:  Society of Petroleum Engineers\, Denver Section \nEvent:  March 21st\, 2023 Technical Happy Hour​ \nTime:  March 21st\, 4-6 (HH begins at 4\, Talk at 430\, Social until 6) \nLocation: DERL \nSponsor: Revo Testing Technologies  \nStudy Group Category:  Completion \nSpeaker: Dapo Adejare\, Reservoir Engineering Technical Advisor\, Revo Testing Technologies \nTitle:  Production analysis and production forecasting in unconventional reservoirs using initial production data \nAbstract: \nTwo examples from the SPE data repository will be used to illustrate a method for forecasting production in unconventional reservoirs using initial production data (first 1-2 months of production). \nAnalysis of hourly initial production data indicates a flow regime sequence of sub-radial flow (slope <0.4)\, followed by a 1st boundary (slope ~1) and then sublinear flow (slope > 0.5) on Rate Normalized Pressure vs. Material Balance Time plots.  These flow regime sequences are applied in a workflow to determine the fracture half-length\, permeability\, and the number of fractures which are then used in a model to forecast production. \nAdditional examples will show how this workflow is applied to evaluate completion effectiveness. \nThis presentation illustrates the significance of high frequency/high quality initial production data. The reservoir transients that indicate sub-radial flow and a unit slope preceding sublinear flow are often masked by lower resolution daily data and hourly data with measurement errors. \nBio: \nDapo Adejare is a Reservoir Engineering Technical Advisor with Revo Testing Technologies where he is helping to develop and apply new technologies for unconventional well performance evaluation. He holds a Master’s degree in Petroleum Engineering from Texas A&M University.
URL:https://denverspe.org/event/march-21st-2023-technical-happy-hour/
LOCATION:Denver Earth Resources Library\, 730 17th Street Suite B1\, Denver\, CO\, 80202\, United States
CATEGORIES:General
END:VEVENT
END:VCALENDAR