BEGIN:VCALENDAR
VERSION:2.0
PRODID:-//Denver SPE - ECPv6.15.20//NONSGML v1.0//EN
CALSCALE:GREGORIAN
METHOD:PUBLISH
X-ORIGINAL-URL:https://denverspe.org
X-WR-CALDESC:Events for Denver SPE
REFRESH-INTERVAL;VALUE=DURATION:PT1H
X-Robots-Tag:noindex
X-PUBLISHED-TTL:PT1H
BEGIN:VTIMEZONE
TZID:America/Denver
BEGIN:DAYLIGHT
TZOFFSETFROM:-0700
TZOFFSETTO:-0600
TZNAME:MDT
DTSTART:20220313T090000
END:DAYLIGHT
BEGIN:STANDARD
TZOFFSETFROM:-0600
TZOFFSETTO:-0700
TZNAME:MST
DTSTART:20221106T080000
END:STANDARD
BEGIN:DAYLIGHT
TZOFFSETFROM:-0700
TZOFFSETTO:-0600
TZNAME:MDT
DTSTART:20230312T090000
END:DAYLIGHT
BEGIN:STANDARD
TZOFFSETFROM:-0600
TZOFFSETTO:-0700
TZNAME:MST
DTSTART:20231105T080000
END:STANDARD
BEGIN:DAYLIGHT
TZOFFSETFROM:-0700
TZOFFSETTO:-0600
TZNAME:MDT
DTSTART:20240310T090000
END:DAYLIGHT
BEGIN:STANDARD
TZOFFSETFROM:-0600
TZOFFSETTO:-0700
TZNAME:MST
DTSTART:20241103T080000
END:STANDARD
END:VTIMEZONE
BEGIN:VEVENT
DTSTART;TZID=America/Denver:20230418T064500
DTEND;TZID=America/Denver:20230418T083000
DTSTAMP:20260420T115444
CREATED:20230309T061628Z
LAST-MODIFIED:20230309T061727Z
UID:2475-1681800300-1681806600@denverspe.org
SUMMARY:Volunteer at the Denver Rescue Mission
DESCRIPTION:Please help SPE Denver Section give back to the Denver Rescue Mission by serving breakfast at their Lawrence Street location. \n  \nPlease arrive by 6:45 and plan to stay till 8:30 \n  \nFor more info Contact Nicolas Cosca at Nicolas.Cosca@hpinc.com
URL:https://denverspe.org/event/volunteer-at-the-denver-rescue-mission-3/
LOCATION:Denver Rescue Mission\, 2222 Lawrence St\, Denver\, CO\, 80205\, United States
CATEGORIES:Outreach
END:VEVENT
BEGIN:VEVENT
DTSTART;TZID=America/Denver:20230418T113000
DTEND;TZID=America/Denver:20230418T133000
DTSTAMP:20260420T115444
CREATED:20230329T175414Z
LAST-MODIFIED:20230401T031135Z
UID:2509-1681817400-1681824600@denverspe.org
SUMMARY:Reservoir Analytics Study Group: Priyavrat Shukla - Hands-On Training: Reservoir Analytics Application
DESCRIPTION:Host:  Society of Petroleum Engineers\, Denver Section \nEvent:  April 18th\, 2023 Reservoir Analytics Study Group \nTime:  April 18\, 11:30am-1:00pm \nLocation: Tabor Center\, Aspen Conference Room\, 1200 17th Street\, Denver\, CO 80202 \nStudy Group Category:  Reservoir Engineering \nSpeaker:  Priyavrat Shukla\, Senior Petroleum Engineer\, SLB \nTitle:  Hands-On Training: Reservoir Analytics Application \nAbstract: \nThis software workshop will focus on an overview and hands on session with the Reservoir Analytics application developed by SLB. The session will consist of a short presentation on Reservoir Analytics followed by lunch and a workshop about the tool. This session is primarily a software workshop designed to provide insights to the users about Reservoir Analytics and make them familiar with this latest tool.  \nRegistration Link: Click HERE
URL:https://denverspe.org/event/hands-on-training-reservoir-analytics-application/
LOCATION:Tabor Center\, 1200 17th street\, Denver\, CO\, 80202\, United States
CATEGORIES:General
END:VEVENT
END:VCALENDAR