BEGIN:VCALENDAR
VERSION:2.0
PRODID:-//Denver SPE - ECPv6.15.20//NONSGML v1.0//EN
CALSCALE:GREGORIAN
METHOD:PUBLISH
X-ORIGINAL-URL:https://denverspe.org
X-WR-CALDESC:Events for Denver SPE
REFRESH-INTERVAL;VALUE=DURATION:PT1H
X-Robots-Tag:noindex
X-PUBLISHED-TTL:PT1H
BEGIN:VTIMEZONE
TZID:America/Denver
BEGIN:DAYLIGHT
TZOFFSETFROM:-0700
TZOFFSETTO:-0600
TZNAME:MDT
DTSTART:20220313T090000
END:DAYLIGHT
BEGIN:STANDARD
TZOFFSETFROM:-0600
TZOFFSETTO:-0700
TZNAME:MST
DTSTART:20221106T080000
END:STANDARD
BEGIN:DAYLIGHT
TZOFFSETFROM:-0700
TZOFFSETTO:-0600
TZNAME:MDT
DTSTART:20230312T090000
END:DAYLIGHT
BEGIN:STANDARD
TZOFFSETFROM:-0600
TZOFFSETTO:-0700
TZNAME:MST
DTSTART:20231105T080000
END:STANDARD
BEGIN:DAYLIGHT
TZOFFSETFROM:-0700
TZOFFSETTO:-0600
TZNAME:MDT
DTSTART:20240310T090000
END:DAYLIGHT
BEGIN:STANDARD
TZOFFSETFROM:-0600
TZOFFSETTO:-0700
TZNAME:MST
DTSTART:20241103T080000
END:STANDARD
END:VTIMEZONE
BEGIN:VEVENT
DTSTART;TZID=America/Denver:20230510T090000
DTEND;TZID=America/Denver:20230510T093000
DTSTAMP:20260420T101259
CREATED:20230426T152803Z
LAST-MODIFIED:20230426T181542Z
UID:2562-1683709200-1683711000@denverspe.org
SUMMARY:Denver Section Industry Advisory Committee Meeting
DESCRIPTION:The next Denver Section Industry Advisory Committee (IAC) meeting will be held via Zoom from 0900-0930 on May 10th\, 2023. The Committee is comprised of key engineering and geoscience staff from service\, midstream\, and upstream energy industry companies with operations in the Rockies. The purpose of the IAC is to facilitate communication with and amongst companies and give them the opportunity to provide input directly to the Denver SPE Section Board on how the Section can best serve their Denver-based professional staff. Anyone not already on the Committee wishing to attend can contact John Benton (JHBenton@mines.edu) or Joe Dumesnil (JDumesnil@overlandoil.com) for more information.
URL:https://denverspe.org/event/denver-section-industry-advisory-committee-2/
LOCATION:CO
CATEGORIES:General
END:VEVENT
END:VCALENDAR