BEGIN:VCALENDAR
VERSION:2.0
PRODID:-//Denver SPE - ECPv6.15.20//NONSGML v1.0//EN
CALSCALE:GREGORIAN
METHOD:PUBLISH
X-ORIGINAL-URL:https://denverspe.org
X-WR-CALDESC:Events for Denver SPE
REFRESH-INTERVAL;VALUE=DURATION:PT1H
X-Robots-Tag:noindex
X-PUBLISHED-TTL:PT1H
BEGIN:VTIMEZONE
TZID:America/Denver
BEGIN:DAYLIGHT
TZOFFSETFROM:-0700
TZOFFSETTO:-0600
TZNAME:MDT
DTSTART:20220313T090000
END:DAYLIGHT
BEGIN:STANDARD
TZOFFSETFROM:-0600
TZOFFSETTO:-0700
TZNAME:MST
DTSTART:20221106T080000
END:STANDARD
BEGIN:DAYLIGHT
TZOFFSETFROM:-0700
TZOFFSETTO:-0600
TZNAME:MDT
DTSTART:20230312T090000
END:DAYLIGHT
BEGIN:STANDARD
TZOFFSETFROM:-0600
TZOFFSETTO:-0700
TZNAME:MST
DTSTART:20231105T080000
END:STANDARD
BEGIN:DAYLIGHT
TZOFFSETFROM:-0700
TZOFFSETTO:-0600
TZNAME:MDT
DTSTART:20240310T090000
END:DAYLIGHT
BEGIN:STANDARD
TZOFFSETFROM:-0600
TZOFFSETTO:-0700
TZNAME:MST
DTSTART:20241103T080000
END:STANDARD
END:VTIMEZONE
BEGIN:VEVENT
DTSTART;TZID=America/Denver:20230629T170000
DTEND;TZID=America/Denver:20230629T200000
DTSTAMP:20260420T063654
CREATED:20230523T210434Z
LAST-MODIFIED:20230623T185440Z
UID:2592-1688058000-1688068800@denverspe.org
SUMMARY:Summer Social/Awards Happy Hour
DESCRIPTION:Denver SPE 2023 Summer Social event is happening June 29th at Rock Bottom Brewery from 5-8pm! Sponsored by Fluid Energy Group! \n  \nPlease join us at Rock Bottom Brewery in downtown Denver! We will have a private event space to get together and socialize to enjoy the summer and celebrate our 2023 section and regional award winners and our 70th year as a section! 2024 SPEi President\, Terry Palisch will be in attendance and will be presenting the awards to our deserving recipients! \n  \nEach attendee will get 2 drink coupons and food will be provided. Please invite your friends\, co-workers and fellow industry professionals to join! We look forward to seeing you there! \n  \nRegistration: Click HERE
URL:https://denverspe.org/event/summer-social-happy-hour/
LOCATION:Rock Bottom Restaurant & Brewery\, 1001 16th Street\, Unit Ste A-100\, Denver\, Colorado\, 80265\, United States
CATEGORIES:General
ORGANIZER;CN="SPE Denver Section":MAILTO:denversection@spemail.org
END:VEVENT
END:VCALENDAR