BEGIN:VCALENDAR
VERSION:2.0
PRODID:-//Denver SPE - ECPv6.15.20//NONSGML v1.0//EN
CALSCALE:GREGORIAN
METHOD:PUBLISH
X-ORIGINAL-URL:https://denverspe.org
X-WR-CALDESC:Events for Denver SPE
REFRESH-INTERVAL;VALUE=DURATION:PT1H
X-Robots-Tag:noindex
X-PUBLISHED-TTL:PT1H
BEGIN:VTIMEZONE
TZID:America/Denver
BEGIN:DAYLIGHT
TZOFFSETFROM:-0700
TZOFFSETTO:-0600
TZNAME:MDT
DTSTART:20220313T090000
END:DAYLIGHT
BEGIN:STANDARD
TZOFFSETFROM:-0600
TZOFFSETTO:-0700
TZNAME:MST
DTSTART:20221106T080000
END:STANDARD
BEGIN:DAYLIGHT
TZOFFSETFROM:-0700
TZOFFSETTO:-0600
TZNAME:MDT
DTSTART:20230312T090000
END:DAYLIGHT
BEGIN:STANDARD
TZOFFSETFROM:-0600
TZOFFSETTO:-0700
TZNAME:MST
DTSTART:20231105T080000
END:STANDARD
BEGIN:DAYLIGHT
TZOFFSETFROM:-0700
TZOFFSETTO:-0600
TZNAME:MDT
DTSTART:20240310T090000
END:DAYLIGHT
BEGIN:STANDARD
TZOFFSETFROM:-0600
TZOFFSETTO:-0700
TZNAME:MST
DTSTART:20241103T080000
END:STANDARD
END:VTIMEZONE
BEGIN:VEVENT
DTSTART;TZID=America/Denver:20230920T113000
DTEND;TZID=America/Denver:20230920T113000
DTSTAMP:20260420T024011
CREATED:20230903T044912Z
LAST-MODIFIED:20230903T050803Z
UID:2663-1695209400-1695209400@denverspe.org
SUMMARY:Jack England Pass Registration Deadline
DESCRIPTION:The Jack England Pass for Fall 2023 includes pre-registered tickets to all Sept/Oct/Nov/Dec SPE Denver General Meetings at a price of $160. \n  \nThe Denver SPE General Meetings Program features the most recent and impactful technology developments and the latest advances in well performance analysis techniques\, as well as lessons learned and best practices from operators and service companies within the oil and gas industry. This monthly cadence technical luncheon runs from September to May every year and continue serving as a conduit to maintain our distinguished audience technically updated\, while simultaneously providing valuable networking opportunities to further develop those value adding business connections. Our monthly luncheons are held at Fogo de Chão downtown Denver (1513 Wynkoop St\, Denver\, CO 80202)\, typically the third month of each month from September to May. Sponsorship opportunities are available at https://denverspe.org. \n  \nIf you wish to have more flexibility than the Jack England pass offers\, this year Denver SPE section will also be offering discounted group tickets for 2023 Sept/Oct/Nov/Dec as well as 2024 Jan/Feb/Mar/May – General Meetings. These are tickets that can be used by you or members of your organization for any of the 8 general meetings listed above. There are 3 package options: \n  \n\n5 tickets for $200\n10 tickets for $400\n20 tickets for $800\n\n  \nAfter an order is placed\, a confirmation email with Promotion Code and instructions will be sent. Register using the Promo Code for any General Meeting of 2023/2024 season.
URL:https://denverspe.org/event/jack-england-pass-registration-deadline/
LOCATION:CO
CATEGORIES:General
END:VEVENT
BEGIN:VEVENT
DTSTART;TZID=America/Denver:20230920T113000
DTEND;TZID=America/Denver:20230920T130000
DTSTAMP:20260420T024011
CREATED:20230902T064325Z
LAST-MODIFIED:20230906T223518Z
UID:2647-1695209400-1695214800@denverspe.org
SUMMARY:General Meeting: Matt Paradeis - Assessing the Impact of Oriented Perforations and Frac Plug Performance in DJ Basin: A Case Study from Chevron Leveraging DarkVision Technology
DESCRIPTION:Assessing the Impact of Oriented Perforations and Frac Plug Performance in DJ Basin: A Case Study from Chevron Leveraging DarkVision Technology \nChevron Rockies Business Unit began an effort in late-2022 to evaluate the effectiveness of its perforation design using modern\, solid-state acoustic imaging technology. This evaluation uses DarkVision Technologies’ imaging tools deployed on coiled tubing after hydraulic fracturing\, between well cleanout and running production tubing. An initial study was designed with three wells in the DJ Basin of northeastern Colorado using three different perforation schemes of various orientation. All were approximately 10\,000’ laterals with dissolvable frac plugs for stage isolation.   \nThe three-well study revealed eye opening information regarding the frac plugs performance\, both during the initial setting and during pressure pumping. Furthermore\, the expected downstream impacts resulting from these findings were also observed and analyzed. This case of study highlights the key findings of the completed study\, the mitigation strategy implemented\, and the results obtained from such implementation. \n  \n \nKeynote speaker: \nMatt Paradeis is senior completions engineer work for Chevron based in Denver\, and primarily focusing on the DJ Basin. After graduating from Missouri University of Science & Technology with a degree in petroleum engineering\, he began his career in Houston with Chevron in 2012 working as a rock mechanics specialist focusing on near-wellbore and reservoir scale geomechanics. He’s spent 8 years working deepwater assets in the Gulf of Mexico including 3.5 years as a field engineer offshore executing completions and drilling operations. He also has experience as a deepwater drilling engineer\, project engineer for a 20\,000psi mobile offshore drilling unit and process safety engineer. He joined the Chevron Rockies Business Unit in July 2022. \n  \nEvent Registration Link: Click HERE\nJack England Pass Registration Link: Click HERE\nGeneral Meeting Group Ticket Registration Link: Click HERE\n \nGOLD Sponsor: DarkVision
URL:https://denverspe.org/event/general-meeting/
LOCATION:Fogo de Chao\, 1513 Wynkoop st\, Denver\, 80202\, United States
CATEGORIES:General
END:VEVENT
END:VCALENDAR