BEGIN:VCALENDAR
VERSION:2.0
PRODID:-//Denver SPE - ECPv6.15.20//NONSGML v1.0//EN
CALSCALE:GREGORIAN
METHOD:PUBLISH
X-ORIGINAL-URL:https://denverspe.org
X-WR-CALDESC:Events for Denver SPE
REFRESH-INTERVAL;VALUE=DURATION:PT1H
X-Robots-Tag:noindex
X-PUBLISHED-TTL:PT1H
BEGIN:VTIMEZONE
TZID:America/Denver
BEGIN:DAYLIGHT
TZOFFSETFROM:-0700
TZOFFSETTO:-0600
TZNAME:MDT
DTSTART:20220313T090000
END:DAYLIGHT
BEGIN:STANDARD
TZOFFSETFROM:-0600
TZOFFSETTO:-0700
TZNAME:MST
DTSTART:20221106T080000
END:STANDARD
BEGIN:DAYLIGHT
TZOFFSETFROM:-0700
TZOFFSETTO:-0600
TZNAME:MDT
DTSTART:20230312T090000
END:DAYLIGHT
BEGIN:STANDARD
TZOFFSETFROM:-0600
TZOFFSETTO:-0700
TZNAME:MST
DTSTART:20231105T080000
END:STANDARD
BEGIN:DAYLIGHT
TZOFFSETFROM:-0700
TZOFFSETTO:-0600
TZNAME:MDT
DTSTART:20240310T090000
END:DAYLIGHT
BEGIN:STANDARD
TZOFFSETFROM:-0600
TZOFFSETTO:-0700
TZNAME:MST
DTSTART:20241103T080000
END:STANDARD
END:VTIMEZONE
BEGIN:VEVENT
DTSTART;TZID=America/Denver:20230926T160000
DTEND;TZID=America/Denver:20230926T180000
DTSTAMP:20260420T024134
CREATED:20230903T045622Z
LAST-MODIFIED:20230903T051121Z
UID:2667-1695744000-1695751200@denverspe.org
SUMMARY:Technical Happy Hour: Adam Block - Project Phantom - Integrating Physics With Analytics to Optimize Well Performance
DESCRIPTION:  \nWhen: \nSeptember 26\, 2023 \n\n4:00 PM Happy Hour Starts\n4:30 PM Technical Talk followed by social until 6:00 PM\n\n  \nSpeaker: \nAdam Block\, P.E. Reservoir Engineer\, Ovintiv \n  \nTitle: \nProject Phantom – Integrating Physics With Analytics to Optimize Well Performance \n  \nAbstract: \nData-driven statistical models and physics-based simulations are both regularly applied to predict unconventional well performance. This project set out to integrate generalized ResFrac simulations with Ovintiv’s multivariate regression model to improve the predictivity of future well performance. Through the creation of a new ensemble model\, Project Phantom created a tool to better predict oil production in the Midland Basin than either multivariate regression or simulation could independently. \n  \nSpeaker Bio: \nThe Project Phantom team consisted of Mark McMclure\, Charles Kang\, Kerstan Wallace\, Cameron Cross\, Claudia Molina\, and Adam Block. Adam will be sharing results from the project on the team’s behalf. A native of Cheyenne\, Wyoming\, Adam received B.S. degrees in Mechanical Engineering and Energy Systems Engineering from the University of Wyoming in 2017\, and he is currently pursuing an MBA from the University of Chicago’s Booth School of Business. Adam has experience in production\, facilities\, drilling\, development\, and reservoir engineering with a more recent focus on data science. \n  \nRegistration Link: Here
URL:https://denverspe.org/event/technical-happy-hour-project-phantom-integrating-physics-with-analytics-to-optimize-well-performance/
LOCATION:Ovintiv\, 40th floor\, 370 17th St\, Denver\, CO\, 80202\, United States
CATEGORIES:General
END:VEVENT
END:VCALENDAR