BEGIN:VCALENDAR
VERSION:2.0
PRODID:-//Denver SPE - ECPv6.15.20//NONSGML v1.0//EN
CALSCALE:GREGORIAN
METHOD:PUBLISH
X-ORIGINAL-URL:https://denverspe.org
X-WR-CALDESC:Events for Denver SPE
REFRESH-INTERVAL;VALUE=DURATION:PT1H
X-Robots-Tag:noindex
X-PUBLISHED-TTL:PT1H
BEGIN:VTIMEZONE
TZID:America/Denver
BEGIN:DAYLIGHT
TZOFFSETFROM:-0700
TZOFFSETTO:-0600
TZNAME:MDT
DTSTART:20220313T090000
END:DAYLIGHT
BEGIN:STANDARD
TZOFFSETFROM:-0600
TZOFFSETTO:-0700
TZNAME:MST
DTSTART:20221106T080000
END:STANDARD
BEGIN:DAYLIGHT
TZOFFSETFROM:-0700
TZOFFSETTO:-0600
TZNAME:MDT
DTSTART:20230312T090000
END:DAYLIGHT
BEGIN:STANDARD
TZOFFSETFROM:-0600
TZOFFSETTO:-0700
TZNAME:MST
DTSTART:20231105T080000
END:STANDARD
BEGIN:DAYLIGHT
TZOFFSETFROM:-0700
TZOFFSETTO:-0600
TZNAME:MDT
DTSTART:20240310T090000
END:DAYLIGHT
BEGIN:STANDARD
TZOFFSETFROM:-0600
TZOFFSETTO:-0700
TZNAME:MST
DTSTART:20241103T080000
END:STANDARD
END:VTIMEZONE
BEGIN:VEVENT
DTSTART;TZID=America/Denver:20231001T130000
DTEND;TZID=America/Denver:20231001T150000
DTSTAMP:20260420T004512
CREATED:20230914T022743Z
LAST-MODIFIED:20231001T225921Z
UID:2694-1696165200-1696172400@denverspe.org
SUMMARY:Volunteer Opportunity! Denver Metro Regional Science and Engineering Fair STEAM Mentoring
DESCRIPTION:Help Students generate science fair project ideas in small group sessions!
URL:https://denverspe.org/event/denver-metro-regional-science-and-engineering-fair-steam-mentoring/
LOCATION:1201 Larimer St\, Denver\, CO 80204\, United States\, 1201 Larimer St\, Denver\, CO\, 80204\, United States
CATEGORIES:Outreach
END:VEVENT
END:VCALENDAR