BEGIN:VCALENDAR
VERSION:2.0
PRODID:-//Denver SPE - ECPv6.15.20//NONSGML v1.0//EN
CALSCALE:GREGORIAN
METHOD:PUBLISH
X-ORIGINAL-URL:https://denverspe.org
X-WR-CALDESC:Events for Denver SPE
REFRESH-INTERVAL;VALUE=DURATION:PT1H
X-Robots-Tag:noindex
X-PUBLISHED-TTL:PT1H
BEGIN:VTIMEZONE
TZID:America/Denver
BEGIN:DAYLIGHT
TZOFFSETFROM:-0700
TZOFFSETTO:-0600
TZNAME:MDT
DTSTART:20220313T090000
END:DAYLIGHT
BEGIN:STANDARD
TZOFFSETFROM:-0600
TZOFFSETTO:-0700
TZNAME:MST
DTSTART:20221106T080000
END:STANDARD
BEGIN:DAYLIGHT
TZOFFSETFROM:-0700
TZOFFSETTO:-0600
TZNAME:MDT
DTSTART:20230312T090000
END:DAYLIGHT
BEGIN:STANDARD
TZOFFSETFROM:-0600
TZOFFSETTO:-0700
TZNAME:MST
DTSTART:20231105T080000
END:STANDARD
BEGIN:DAYLIGHT
TZOFFSETFROM:-0700
TZOFFSETTO:-0600
TZNAME:MDT
DTSTART:20240310T090000
END:DAYLIGHT
BEGIN:STANDARD
TZOFFSETFROM:-0600
TZOFFSETTO:-0700
TZNAME:MST
DTSTART:20241103T080000
END:STANDARD
END:VTIMEZONE
BEGIN:VEVENT
DTSTART;TZID=America/Denver:20231109T113000
DTEND;TZID=America/Denver:20231109T130000
DTSTAMP:20260419T225046
CREATED:20231104T091840Z
LAST-MODIFIED:20231106T050349Z
UID:2763-1699529400-1699534800@denverspe.org
SUMMARY:SPE YP Lunch and Learn: Gabby Richmond\, Political & Regulatory Climate in Colorado: Everything You Need to Know
DESCRIPTION:SPE Young Professionals November Lunch-and-Learn \nPolitical & Regulatory Climate in Colorado: Everything You Need to Know \nGabby Richmond\, Manager of Marketing & Communications\, Colorado Oil & Gas Association \n  \nWhen: Nov 9th\, 2023 | 11:30 AM – 1:00 PM \nWhere: Liberty Energy 950 17th St Ste 2400\, Denver\, CO 80202 \nPrice: FREE! Pizza and soft drinks will be provided\, courtesy of Liberty Oilfield Services. \n  \nRegistration: Click HERE \n 
URL:https://denverspe.org/event/spe-yp-lunch-and-learn/
LOCATION:Liberty Energy\, 950 17th St Suite #24\, Denver\, CO\, 80202\, United States
CATEGORIES:Young Professionals
END:VEVENT
BEGIN:VEVENT
DTSTART;TZID=America/Denver:20231109T173000
DTEND;TZID=America/Denver:20231109T213000
DTSTAMP:20260419T225046
CREATED:20230927T232038Z
LAST-MODIFIED:20231106T050512Z
UID:2721-1699551000-1699565400@denverspe.org
SUMMARY:Industry Event: Zoo Lights
DESCRIPTION:Load up your family and friends and head to the Denver Zoo for a spectacular evening with RMPC\, GPARMC\, SPE\, & AADE! \n \nThere’s no better way to experience the exclusive preview of the 32nd annual Denver Zoo Lights!! \n\nDenver Zoo Thursday\, November 9th 5:30 pm – 9:30 pm \n\nWe have rented out the ENTIRE Denver Zoo! Bring your family and friends to join us and have a chance to experience the 32nd annual Zoo Lights! The evening will feature an exclusive opportunity to see the zoo lights before the general public. It’s a family-friendly event where children of all ages are encouraged to come enjoy an amazing night. \nCome enjoy the lights\, carousel\, train rides\, and an evening amongst family and friends at a very unique event!
URL:https://denverspe.org/event/zoo-lights/
LOCATION:denver zoo\, 2300 Steele Street\, Denver\, CO\, 80205\, United States
CATEGORIES:Industry Event
END:VEVENT
END:VCALENDAR