BEGIN:VCALENDAR
VERSION:2.0
PRODID:-//Denver SPE - ECPv6.15.20//NONSGML v1.0//EN
CALSCALE:GREGORIAN
METHOD:PUBLISH
X-ORIGINAL-URL:https://denverspe.org
X-WR-CALDESC:Events for Denver SPE
REFRESH-INTERVAL;VALUE=DURATION:PT1H
X-Robots-Tag:noindex
X-PUBLISHED-TTL:PT1H
BEGIN:VTIMEZONE
TZID:America/Denver
BEGIN:DAYLIGHT
TZOFFSETFROM:-0700
TZOFFSETTO:-0600
TZNAME:MDT
DTSTART:20220313T090000
END:DAYLIGHT
BEGIN:STANDARD
TZOFFSETFROM:-0600
TZOFFSETTO:-0700
TZNAME:MST
DTSTART:20221106T080000
END:STANDARD
BEGIN:DAYLIGHT
TZOFFSETFROM:-0700
TZOFFSETTO:-0600
TZNAME:MDT
DTSTART:20230312T090000
END:DAYLIGHT
BEGIN:STANDARD
TZOFFSETFROM:-0600
TZOFFSETTO:-0700
TZNAME:MST
DTSTART:20231105T080000
END:STANDARD
BEGIN:DAYLIGHT
TZOFFSETFROM:-0700
TZOFFSETTO:-0600
TZNAME:MDT
DTSTART:20240310T090000
END:DAYLIGHT
BEGIN:STANDARD
TZOFFSETFROM:-0600
TZOFFSETTO:-0700
TZNAME:MST
DTSTART:20241103T080000
END:STANDARD
END:VTIMEZONE
BEGIN:VEVENT
DTSTART;TZID=America/Denver:20231115T084500
DTEND;TZID=America/Denver:20231115T134500
DTSTAMP:20260419T225046
CREATED:20231110T203000Z
LAST-MODIFIED:20231110T203125Z
UID:2949-1700037900-1700055900@denverspe.org
SUMMARY:Volunteer with 8th Grade Adams12 STEM Class
DESCRIPTION:Adams12 8th Grade STEM classroom (engineering class) is looking for volunteers to help give feedback on a “real-world” problem they kids were posed. The question was “If we get another huge storm this winter what things can you do to aid in keeping you budget in check?” Teams of kids are set to present their funds to a panel of industry expects and give instant feedback to the students. The date is Wednesday Nov 15\, 2023 ⋅ 8:45am – 1:45pm at the middle school. Please reach out to tannehiljulie@gmail.com if you are interested in volunteering!
URL:https://denverspe.org/event/volunteer-with-8th-grade-adams12-stem-class/
LOCATION:CO
CATEGORIES:Outreach
END:VEVENT
BEGIN:VEVENT
DTSTART;TZID=America/Denver:20231115T113000
DTEND;TZID=America/Denver:20231115T130000
DTSTAMP:20260419T225046
CREATED:20231007T104229Z
LAST-MODIFIED:20231106T204020Z
UID:2783-1700047800-1700053200@denverspe.org
SUMMARY:General Meeting: Ted Cross\, Deciphering the DJ Basin: A Technical and Comparative Analysis with the Permian
DESCRIPTION:Deciphering the DJ Basin: A Technical Exploration and Comparative Analysis with the Permian \nAbstract: This presentation provides an in-depth analysis of the unconventional Niobrara play in the DJ Basin\, utilizing machine learning models. We will dissect production trends\, activity levels\, and the underlying drivers of production\, providing a nuanced understanding of the interplay between completions design\, lateral lengths\, subsurface conditions\, and well spacing. The insights gleaned will present a detailed portrayal of the play’s dynamics and potential during a time of consolidation. We include a comparative analysis of the Permian as valuable context as both basins advance into their second decade of unconventional production.  \n  \nBio: Ted Cross is Vice President of Product Management at Novi Labs\, an Austin-based oil and gas data analytics company. At Novi\, Ted drives company strategy\, sets the software development roadmap\, and works with engineering and data science teams to build compelling analytics tools. Prior to joining Novi\, Ted worked as a geologist for ConocoPhillips in a range of roles including Williston Basin development\, Lower 48 exploration\, global new ventures\, and deepwater Gulf of Mexico. He received a Master’s in Geology from the University of Arizona\, specializing in thrust belts and foreland basins\, and a Bachelor’s in Geology from the University of Texas at Austin. \nREGISTER HERE\nGROUP TICKET PACKAGE PURCHASE HERE
URL:https://denverspe.org/event/general-meeting-deciphering-the-dj-basin/
LOCATION:Fogo de Chao\, 1513 Wynkoop st\, Denver\, 80202\, United States
CATEGORIES:General
END:VEVENT
END:VCALENDAR