BEGIN:VCALENDAR
VERSION:2.0
PRODID:-//Denver SPE - ECPv6.15.20//NONSGML v1.0//EN
CALSCALE:GREGORIAN
METHOD:PUBLISH
X-ORIGINAL-URL:https://denverspe.org
X-WR-CALDESC:Events for Denver SPE
REFRESH-INTERVAL;VALUE=DURATION:PT1H
X-Robots-Tag:noindex
X-PUBLISHED-TTL:PT1H
BEGIN:VTIMEZONE
TZID:America/Denver
BEGIN:DAYLIGHT
TZOFFSETFROM:-0700
TZOFFSETTO:-0600
TZNAME:MDT
DTSTART:20220313T090000
END:DAYLIGHT
BEGIN:STANDARD
TZOFFSETFROM:-0600
TZOFFSETTO:-0700
TZNAME:MST
DTSTART:20221106T080000
END:STANDARD
BEGIN:DAYLIGHT
TZOFFSETFROM:-0700
TZOFFSETTO:-0600
TZNAME:MDT
DTSTART:20230312T090000
END:DAYLIGHT
BEGIN:STANDARD
TZOFFSETFROM:-0600
TZOFFSETTO:-0700
TZNAME:MST
DTSTART:20231105T080000
END:STANDARD
BEGIN:DAYLIGHT
TZOFFSETFROM:-0700
TZOFFSETTO:-0600
TZNAME:MDT
DTSTART:20240310T090000
END:DAYLIGHT
BEGIN:STANDARD
TZOFFSETFROM:-0600
TZOFFSETTO:-0700
TZNAME:MST
DTSTART:20241103T080000
END:STANDARD
END:VTIMEZONE
BEGIN:VEVENT
DTSTART;TZID=America/Denver:20231128T160000
DTEND;TZID=America/Denver:20231128T180000
DTSTAMP:20260419T205346
CREATED:20231106T050133Z
LAST-MODIFIED:20231106T073451Z
UID:2869-1701187200-1701194400@denverspe.org
SUMMARY:Business Development Kickoff Happy Hour: Daniel Rojo\, State of the Rockies
DESCRIPTION:Abstract: Interested in networking with other business development professionals? SPE Denver is kicking off a business development group! Daniel will help get things started with a State of the Rockies discussion followed by an extended networking session. Grab your colleagues and come socialize over light appetizers and drinks!\nBio: Daniel Rojo is Co-Head and Managing Director with Opportune Partners LLC\, an independent investment banking and financial advisory affiliate of Opportune LLP. Daniel brings more than 15 years of energy investment banking experience\, most recently as Managing Director and Head of Wells Fargo’s A&D practice. During his tenure with Wells Fargo\, Daniel advised on more than $30 billion of transactions\, spanning all major shale basins.  Daniel holds an MBA and BA in Economics from Rice University. He is also a FINRA Series 79 and 63 registered representative. \n  \nRegistration: Click HERE
URL:https://denverspe.org/event/business-development-kickoff-happy-hour-daniel-rojo-state-of-the-rockies/
LOCATION:Ovintiv\, 40th floor\, 370 17th St\, Denver\, CO\, 80202\, United States
CATEGORIES:General
ORGANIZER;CN="SPE Denver Section":MAILTO:denversection@spemail.org
END:VEVENT
END:VCALENDAR