BEGIN:VCALENDAR
VERSION:2.0
PRODID:-//Denver SPE - ECPv6.15.20//NONSGML v1.0//EN
CALSCALE:GREGORIAN
METHOD:PUBLISH
X-ORIGINAL-URL:https://denverspe.org
X-WR-CALDESC:Events for Denver SPE
REFRESH-INTERVAL;VALUE=DURATION:PT1H
X-Robots-Tag:noindex
X-PUBLISHED-TTL:PT1H
BEGIN:VTIMEZONE
TZID:America/Denver
BEGIN:DAYLIGHT
TZOFFSETFROM:-0700
TZOFFSETTO:-0600
TZNAME:MDT
DTSTART:20230312T090000
END:DAYLIGHT
BEGIN:STANDARD
TZOFFSETFROM:-0600
TZOFFSETTO:-0700
TZNAME:MST
DTSTART:20231105T080000
END:STANDARD
BEGIN:DAYLIGHT
TZOFFSETFROM:-0700
TZOFFSETTO:-0600
TZNAME:MDT
DTSTART:20240310T090000
END:DAYLIGHT
BEGIN:STANDARD
TZOFFSETFROM:-0600
TZOFFSETTO:-0700
TZNAME:MST
DTSTART:20241103T080000
END:STANDARD
BEGIN:DAYLIGHT
TZOFFSETFROM:-0700
TZOFFSETTO:-0600
TZNAME:MDT
DTSTART:20250309T090000
END:DAYLIGHT
BEGIN:STANDARD
TZOFFSETFROM:-0600
TZOFFSETTO:-0700
TZNAME:MST
DTSTART:20251102T080000
END:STANDARD
END:VTIMEZONE
BEGIN:VEVENT
DTSTART;TZID=America/Denver:20240124T113000
DTEND;TZID=America/Denver:20240124T113000
DTSTAMP:20260419T185819
CREATED:20240103T044517Z
LAST-MODIFIED:20240103T044628Z
UID:3047-1706095800-1706095800@denverspe.org
SUMMARY:Jack England Pass Spring 2024 Registration Deadline
DESCRIPTION:Speakers: \nJanuary 24th: DaNe Gregoris\, Enverus \n\nDJ Basin Play Fundamentals | How The Basin Stacks Up Across North America\n\nFebruary 21st *Distinguished Lecturer*: Rawdon Seager\, Gaffney\, Cline & Associates \n\nCarbon Capture & Storage and the CO2 Storage Resources Management System (SRMS)\n\nMarch 30th *Distinguished Lecturer*\, Tom Bradley\, Baker Hughes Company \n\nApplication of Oil and Gas Subsurface Evaluation Methodology to Geothermal: The value of Data\n\nMay (TBA): De Goyler & MacNaughton \n\nA Survey on Diagnostic Based Methods for Well Performance Analysis and Production Forecasting in Unconventional Reservoirs\n\nRegister Here 
URL:https://denverspe.org/event/jack-england-pass-spring-2024-registration-deadline/
LOCATION:CO
CATEGORIES:General
ORGANIZER;CN="SPE Denver Section":MAILTO:denversection@spemail.org
END:VEVENT
BEGIN:VEVENT
DTSTART;TZID=America/Denver:20240124T113000
DTEND;TZID=America/Denver:20240124T130000
DTSTAMP:20260419T185819
CREATED:20231213T205126Z
LAST-MODIFIED:20240103T193352Z
UID:3020-1706095800-1706101200@denverspe.org
SUMMARY:General Meeting: Dane Gregoris\, Enverus\, DJ Basin Play Fundamentals | How The Basin Stacks Up Across North America
DESCRIPTION:DJ Basin Play Fundamentals | How The Basin Stacks Up Across North America \n  \nAbstract: \nThis presentation will cover the findings from the recent in-depth analysis conducted on DJ basin\, including the current status and our future expectations for topics such as permits\, regulatory environment\, operatorship\, activity\, production\, GOR and WOR trends and more. Additionally\, a benchmarking for DJ versus the rest of US unconventional plays will be shared. \n  \n \nDane Gregoris \nManaging Director and Head of North American Onshore Intelligence \n  \nDane joined Enverus (ITG) in 2014. His previous work experience includes positions at GLJ Petroleum Consultants and Encana (now Ovintiv). Dane leads the North American Onshore Intelligence team and has worked on numerous advisory mandates for our institutional and corporate clients over the years. He is also a regular presenter to executive audiences and at industry conferences. Dane graduated from Queen’s University with a degree in geological engineering and is a CFA charterholder. \n  \nRegistration: Click HERE
URL:https://denverspe.org/event/dj-basin-play-fundamentals-how-the-basin-stacks-up-across-north-america/
LOCATION:Fogo de Chao\, 1513 Wynkoop st\, Denver\, 80202\, United States
CATEGORIES:General
END:VEVENT
END:VCALENDAR