BEGIN:VCALENDAR
VERSION:2.0
PRODID:-//Denver SPE - ECPv6.15.20//NONSGML v1.0//EN
CALSCALE:GREGORIAN
METHOD:PUBLISH
X-ORIGINAL-URL:https://denverspe.org
X-WR-CALDESC:Events for Denver SPE
REFRESH-INTERVAL;VALUE=DURATION:PT1H
X-Robots-Tag:noindex
X-PUBLISHED-TTL:PT1H
BEGIN:VTIMEZONE
TZID:America/Denver
BEGIN:DAYLIGHT
TZOFFSETFROM:-0700
TZOFFSETTO:-0600
TZNAME:MDT
DTSTART:20230312T090000
END:DAYLIGHT
BEGIN:STANDARD
TZOFFSETFROM:-0600
TZOFFSETTO:-0700
TZNAME:MST
DTSTART:20231105T080000
END:STANDARD
BEGIN:DAYLIGHT
TZOFFSETFROM:-0700
TZOFFSETTO:-0600
TZNAME:MDT
DTSTART:20240310T090000
END:DAYLIGHT
BEGIN:STANDARD
TZOFFSETFROM:-0600
TZOFFSETTO:-0700
TZNAME:MST
DTSTART:20241103T080000
END:STANDARD
BEGIN:DAYLIGHT
TZOFFSETFROM:-0700
TZOFFSETTO:-0600
TZNAME:MDT
DTSTART:20250309T090000
END:DAYLIGHT
BEGIN:STANDARD
TZOFFSETFROM:-0600
TZOFFSETTO:-0700
TZNAME:MST
DTSTART:20251102T080000
END:STANDARD
END:VTIMEZONE
BEGIN:VEVENT
DTSTART;TZID=America/Denver:20240130T160000
DTEND;TZID=America/Denver:20240130T180000
DTSTAMP:20260419T170404
CREATED:20240103T034204Z
LAST-MODIFIED:20240130T010032Z
UID:3040-1706630400-1706637600@denverspe.org
SUMMARY:Technical Happy Hour: Kinleigh Fatheree\, Seismos\, Utilizing Rapid Rate Drops to Measure Perforation Efficiency During Stimulation 
DESCRIPTION:Time:  January 30th\, 4-6 (HH begins at 4\, Talk at 430\, Social until 6) \nLocation: Ovintiv 40th Floor\, 370 17th St\, Denver\, CO 80202 \nStudy Group Category:  Completion  \nSpeaker: Kinleigh Fatheree\, Seismos \nTitle: Utilizing Rapid Rate Drops to Measure Perforation Efficiency During Stimulation  \nAbstract: \nSeismos collaborated with an operator to provide an economical substitute for permanent fiber Uniformity Index. This presentation covers a new method for using rapid rate drops during stimulation to track perforation efficiency. Every time a rapid rate drop occurs during stimulation a small but analyzable oscillatory pressure wave is generated. Acoustic characteristics of this rate drop can be exploited to measure pipe friction\, perforation friction\, as well as tortuosity effects. Three wells were fully analyzed to develop a procedure to quantify the frac fluid distribution during any given stage. Results were compared to permanent cemented fiber to evaluate the accuracy of the approach. This procedure attempts to capture the initial perforation conditions\, and how they change throughout the stage by evaluating each rate drop as they occurred naturally during the treatment. \n  \nBio: \nKinleigh Fatheree is the Strategic Partnerships – Completions Manager for Seismos. She currently works with operators to provide non-invasive\, real-time acoustic monitoring technology for stimulation optimization. She previously was responsible for advanced fracture treatment design and onsite implementation in basins across North America. She also provided direct client support for refracs\, well rescues\, and fracture diagnostic services. Kinleigh holds a bachelor’s degree in petroleum engineering from the University of Oklahoma. \nRegistration Link
URL:https://denverspe.org/event/technical-happy-hour-2/
LOCATION:Ovintiv\, 40th floor\, 370 17th St\, Denver\, CO\, 80202\, United States
CATEGORIES:General
END:VEVENT
END:VCALENDAR