BEGIN:VCALENDAR
VERSION:2.0
PRODID:-//Denver SPE - ECPv6.15.20//NONSGML v1.0//EN
CALSCALE:GREGORIAN
METHOD:PUBLISH
X-ORIGINAL-URL:https://denverspe.org
X-WR-CALDESC:Events for Denver SPE
REFRESH-INTERVAL;VALUE=DURATION:PT1H
X-Robots-Tag:noindex
X-PUBLISHED-TTL:PT1H
BEGIN:VTIMEZONE
TZID:America/Denver
BEGIN:DAYLIGHT
TZOFFSETFROM:-0700
TZOFFSETTO:-0600
TZNAME:MDT
DTSTART:20230312T090000
END:DAYLIGHT
BEGIN:STANDARD
TZOFFSETFROM:-0600
TZOFFSETTO:-0700
TZNAME:MST
DTSTART:20231105T080000
END:STANDARD
BEGIN:DAYLIGHT
TZOFFSETFROM:-0700
TZOFFSETTO:-0600
TZNAME:MDT
DTSTART:20240310T090000
END:DAYLIGHT
BEGIN:STANDARD
TZOFFSETFROM:-0600
TZOFFSETTO:-0700
TZNAME:MST
DTSTART:20241103T080000
END:STANDARD
BEGIN:DAYLIGHT
TZOFFSETFROM:-0700
TZOFFSETTO:-0600
TZNAME:MDT
DTSTART:20250309T090000
END:DAYLIGHT
BEGIN:STANDARD
TZOFFSETFROM:-0600
TZOFFSETTO:-0700
TZNAME:MST
DTSTART:20251102T080000
END:STANDARD
END:VTIMEZONE
BEGIN:VEVENT
DTSTART;TZID=America/Denver:20240213T110000
DTEND;TZID=America/Denver:20240213T113000
DTSTAMP:20260419T170456
CREATED:20240113T164657Z
LAST-MODIFIED:20240205T212825Z
UID:3113-1707822000-1707823800@denverspe.org
SUMMARY:Denver Section Industry Advisory Council Meeting
DESCRIPTION:The next SPE Denver Section Industry Advisory Council meeting will take place at 11AM February 13 in the Denver Earth Resources Library. The address is 730 17th Street Suite B-1. \nThe Industry Advisory Council welcomes input from representatives of any company with staff that are members of the Denver Section of the SPE. The IAC facilitates communication with and amongst companies and gives them the opportunity to provide input directly to the Denver SPE Section Board. Contact John Benton for more information. We hope that you will be able to attend.
URL:https://denverspe.org/event/denver-section-industry-advisory-committee-3/
LOCATION:Denver Earth Resources Library\, 730 17th Street Suite B1\, Denver\, CO\, 80202\, United States
CATEGORIES:General
ORGANIZER;CN="SPE Denver Section":MAILTO:denversection@spemail.org
END:VEVENT
END:VCALENDAR