BEGIN:VCALENDAR
VERSION:2.0
PRODID:-//Denver SPE - ECPv6.15.20//NONSGML v1.0//EN
CALSCALE:GREGORIAN
METHOD:PUBLISH
X-ORIGINAL-URL:https://denverspe.org
X-WR-CALDESC:Events for Denver SPE
REFRESH-INTERVAL;VALUE=DURATION:PT1H
X-Robots-Tag:noindex
X-PUBLISHED-TTL:PT1H
BEGIN:VTIMEZONE
TZID:America/Denver
BEGIN:DAYLIGHT
TZOFFSETFROM:-0700
TZOFFSETTO:-0600
TZNAME:MDT
DTSTART:20230312T090000
END:DAYLIGHT
BEGIN:STANDARD
TZOFFSETFROM:-0600
TZOFFSETTO:-0700
TZNAME:MST
DTSTART:20231105T080000
END:STANDARD
BEGIN:DAYLIGHT
TZOFFSETFROM:-0700
TZOFFSETTO:-0600
TZNAME:MDT
DTSTART:20240310T090000
END:DAYLIGHT
BEGIN:STANDARD
TZOFFSETFROM:-0600
TZOFFSETTO:-0700
TZNAME:MST
DTSTART:20241103T080000
END:STANDARD
BEGIN:DAYLIGHT
TZOFFSETFROM:-0700
TZOFFSETTO:-0600
TZNAME:MDT
DTSTART:20250309T090000
END:DAYLIGHT
BEGIN:STANDARD
TZOFFSETFROM:-0600
TZOFFSETTO:-0700
TZNAME:MST
DTSTART:20251102T080000
END:STANDARD
END:VTIMEZONE
BEGIN:VEVENT
DTSTART;TZID=America/Denver:20240215T170000
DTEND;TZID=America/Denver:20240215T170000
DTSTAMP:20260419T170325
CREATED:20231110T203654Z
LAST-MODIFIED:20231110T204027Z
UID:2953-1708016400-1708016400@denverspe.org
SUMMARY:SPE International Awards Submission Deadline
DESCRIPTION:International awards recognize individuals who make significant technical and professional contributions to the petroleum engineering profession and to the worldwide oil and gas industry. \n\nInternational nominations will remain active for three years.\nInternational awards are presented annually at ATCE.\nInternational nominations require a minimum of one letter of support\, maximum of six\, to be uploaded by individual contributors.\nInternational nominations require candidates to upload their CV/Resume or LinkedIn profile.
URL:https://denverspe.org/event/spe-international-awards-submission-deadline/
LOCATION:CO
CATEGORIES:General
END:VEVENT
END:VCALENDAR