BEGIN:VCALENDAR
VERSION:2.0
PRODID:-//Denver SPE - ECPv6.15.20//NONSGML v1.0//EN
CALSCALE:GREGORIAN
METHOD:PUBLISH
X-ORIGINAL-URL:https://denverspe.org
X-WR-CALDESC:Events for Denver SPE
REFRESH-INTERVAL;VALUE=DURATION:PT1H
X-Robots-Tag:noindex
X-PUBLISHED-TTL:PT1H
BEGIN:VTIMEZONE
TZID:America/Denver
BEGIN:DAYLIGHT
TZOFFSETFROM:-0700
TZOFFSETTO:-0600
TZNAME:MDT
DTSTART:20230312T090000
END:DAYLIGHT
BEGIN:STANDARD
TZOFFSETFROM:-0600
TZOFFSETTO:-0700
TZNAME:MST
DTSTART:20231105T080000
END:STANDARD
BEGIN:DAYLIGHT
TZOFFSETFROM:-0700
TZOFFSETTO:-0600
TZNAME:MDT
DTSTART:20240310T090000
END:DAYLIGHT
BEGIN:STANDARD
TZOFFSETFROM:-0600
TZOFFSETTO:-0700
TZNAME:MST
DTSTART:20241103T080000
END:STANDARD
BEGIN:DAYLIGHT
TZOFFSETFROM:-0700
TZOFFSETTO:-0600
TZNAME:MDT
DTSTART:20250309T090000
END:DAYLIGHT
BEGIN:STANDARD
TZOFFSETFROM:-0600
TZOFFSETTO:-0700
TZNAME:MST
DTSTART:20251102T080000
END:STANDARD
END:VTIMEZONE
BEGIN:VEVENT
DTSTART;VALUE=DATE:20240219
DTEND;VALUE=DATE:20240220
DTSTAMP:20260419T170400
CREATED:20240213T215057Z
LAST-MODIFIED:20240213T221908Z
UID:3199-1708300800-1708387199@denverspe.org
SUMMARY:SPE Forum: Methane Emissions Management for a Sustainable Future (Banff\, Canada) Registration Deadline
DESCRIPTION:Addressing methane emissions may be the single most powerful priority that would permit us to extend the life of hydrocarbons. This Forum is a seminal gathering of all stakeholders in a unique\, safe environment to address the future of methane emissions management from end to end. The Forum will cover the future of measurement\, quantification\, reporting in an evolving regulatory and non-regulatory landscape\, and what innovations are needed in abatement solutions\, global synergies\, and strategies to avoid methane emissions. Participants will leave the Forum with new insights\, strategies\, connections\, and a vision of the future of methane emissions management. \n  \nRegister Here
URL:https://denverspe.org/event/spe-forum-methane-emissions-management-for-a-sustainable-future-banff-canada-registration-deadline/
LOCATION:Banff\, Canada\, Canada
CATEGORIES:Industry Event
END:VEVENT
END:VCALENDAR