BEGIN:VCALENDAR
VERSION:2.0
PRODID:-//Denver SPE - ECPv6.15.20//NONSGML v1.0//EN
CALSCALE:GREGORIAN
METHOD:PUBLISH
X-ORIGINAL-URL:https://denverspe.org
X-WR-CALDESC:Events for Denver SPE
REFRESH-INTERVAL;VALUE=DURATION:PT1H
X-Robots-Tag:noindex
X-PUBLISHED-TTL:PT1H
BEGIN:VTIMEZONE
TZID:America/Denver
BEGIN:DAYLIGHT
TZOFFSETFROM:-0700
TZOFFSETTO:-0600
TZNAME:MDT
DTSTART:20230312T090000
END:DAYLIGHT
BEGIN:STANDARD
TZOFFSETFROM:-0600
TZOFFSETTO:-0700
TZNAME:MST
DTSTART:20231105T080000
END:STANDARD
BEGIN:DAYLIGHT
TZOFFSETFROM:-0700
TZOFFSETTO:-0600
TZNAME:MDT
DTSTART:20240310T090000
END:DAYLIGHT
BEGIN:STANDARD
TZOFFSETFROM:-0600
TZOFFSETTO:-0700
TZNAME:MST
DTSTART:20241103T080000
END:STANDARD
BEGIN:DAYLIGHT
TZOFFSETFROM:-0700
TZOFFSETTO:-0600
TZNAME:MDT
DTSTART:20250309T090000
END:DAYLIGHT
BEGIN:STANDARD
TZOFFSETFROM:-0600
TZOFFSETTO:-0700
TZNAME:MST
DTSTART:20251102T080000
END:STANDARD
END:VTIMEZONE
BEGIN:VEVENT
DTSTART;TZID=America/Denver:20240221T113000
DTEND;TZID=America/Denver:20240221T130000
DTSTAMP:20260419T170301
CREATED:20231213T220601Z
LAST-MODIFIED:20240131T145959Z
UID:3027-1708515000-1708520400@denverspe.org
SUMMARY:General Meeting: Distinguished Lecturer Rawdon Seager\, Carbon Capture & Storage and the CO2 Storage Resources Management System (SRMS)
DESCRIPTION:Society of Petroleum Engineers \nDistinguished Lecturer 2023-24 Lecture Season \n \nCarbon Capture and Storage and the CO2 Storage Resources Management System (SRMS) \nRawdon Seager \nGaffney\, Cline & Associates \nAbstract: \nAfter the lecture\, members will understand the importance of carbon capture and storage in the transition to a lower carbon future\, and know how to evaluate quantities consistently using the SRMS. \nAs part of the international effort to combat global warming\, significant attention is being given to ways to sequester (store for the long-term) carbon dioxide\, which is a major contributor to the greenhouse effect. It is therefore critical that there is a universal means to record the storable quantities by recognizing the maturity of the projects to be implemented and the confidence that can be placed in the estimated volumes to be sequestered. \nThis talk will look at some of the ways in which carbon dioxide can be stored and provide a review of the CO2 Storage Resources Management System (SRMS) framework prepared by the Society of Petroleum Engineers to classify and categorize the storable quantities. \nThe talk will cover: \n\nAn overview of carbon capture\, utilization and storage\, including the role of greenhouse gasses in global warming\nDiscussion of typical modes of storage of carbon dioxide in saline aquifers and depleted oil and gas fields\nReview of the CO2 Storage Resources Management System (SRMS)\, including principles and key definitions\nDiscussion of economics and evaluation methods\nA hypothetical example\n\nBiography: \nRawdon Seager is a reservoir engineer with over 50 years’ experience in the international oil and gas arena with Shell\, Huffco and\, since 1985\, Gaffney\, Cline & Associates\, where he is Chief Reservoir Engineer and Global Director of Quality Assurance. He is currently ivolved in CCS studies and application of the SRMS. \nHe has a BSc in Physics from Bristol University and an MSc in Petroleum Engineering from Imperial College\, London. Rawdon is past Chairman of the SPE Oil and Gas Reserves Committee and past member of the Board and current Chair of the Reserves Definitions Committee of the SPEE. \n  \nRegistration: Click HERE \n  \nRawdon Seager Flyer
URL:https://denverspe.org/event/carbon-capture-storage-and-the-co2-storage-resources-management-system-srms/
LOCATION:Fogo de Chao\, 1513 Wynkoop st\, Denver\, 80202\, United States
CATEGORIES:General
END:VEVENT
END:VCALENDAR