BEGIN:VCALENDAR
VERSION:2.0
PRODID:-//Denver SPE - ECPv6.15.20//NONSGML v1.0//EN
CALSCALE:GREGORIAN
METHOD:PUBLISH
X-ORIGINAL-URL:https://denverspe.org
X-WR-CALDESC:Events for Denver SPE
REFRESH-INTERVAL;VALUE=DURATION:PT1H
X-Robots-Tag:noindex
X-PUBLISHED-TTL:PT1H
BEGIN:VTIMEZONE
TZID:America/Denver
BEGIN:DAYLIGHT
TZOFFSETFROM:-0700
TZOFFSETTO:-0600
TZNAME:MDT
DTSTART:20230312T090000
END:DAYLIGHT
BEGIN:STANDARD
TZOFFSETFROM:-0600
TZOFFSETTO:-0700
TZNAME:MST
DTSTART:20231105T080000
END:STANDARD
BEGIN:DAYLIGHT
TZOFFSETFROM:-0700
TZOFFSETTO:-0600
TZNAME:MDT
DTSTART:20240310T090000
END:DAYLIGHT
BEGIN:STANDARD
TZOFFSETFROM:-0600
TZOFFSETTO:-0700
TZNAME:MST
DTSTART:20241103T080000
END:STANDARD
BEGIN:DAYLIGHT
TZOFFSETFROM:-0700
TZOFFSETTO:-0600
TZNAME:MDT
DTSTART:20250309T090000
END:DAYLIGHT
BEGIN:STANDARD
TZOFFSETFROM:-0600
TZOFFSETTO:-0700
TZNAME:MST
DTSTART:20251102T080000
END:STANDARD
END:VTIMEZONE
BEGIN:VEVENT
DTSTART;TZID=America/Denver:20240223T090000
DTEND;TZID=America/Denver:20240223T170000
DTSTAMP:20260419T170457
CREATED:20231212T070938Z
LAST-MODIFIED:20240205T212936Z
UID:3010-1708678800-1708707600@denverspe.org
SUMMARY:Denver Metro Region Science and Engineering Fair (DMRSEF) Volunteer Opportunity
DESCRIPTION:Over 100 Judges needed for this local science fair; let’s do our part to make it happen SPE. More information @ http://bit.ly/JudgeDMRSEF or mailto:Denversciencefair@ucdenver.edu \n\nContact Julie Tannehill for more information: \nTannehillJulie@gmail.com \n\nSee attached flyer below: \n2024 Judge and Volunteer Flyers[45]
URL:https://denverspe.org/event/dmrs-regional-science-and-engineering-fair/
LOCATION:CO
CATEGORIES:Outreach,SPECares
END:VEVENT
BEGIN:VEVENT
DTSTART;TZID=America/Denver:20240223T123000
DTEND;TZID=America/Denver:20240223T160000
DTSTAMP:20260419T170457
CREATED:20231204T162319Z
LAST-MODIFIED:20240209T182749Z
UID:2989-1708691400-1708704000@denverspe.org
SUMMARY:44th Annual Racquetball Tournament
DESCRIPTION:Event Details and Registration Here! \nSponsorship Levels\nPlatinum – $600\nGold – $450\nSilver – $350
URL:https://denverspe.org/event/annual-raquetball-tournament/
LOCATION:Denver Athletic Club\, 1325 Glenarm Pl\, Denver\, CO\, 80204
CATEGORIES:Racquetball
ORGANIZER;CN="SPE Denver Section":MAILTO:denversection@spemail.org
END:VEVENT
END:VCALENDAR