BEGIN:VCALENDAR
VERSION:2.0
PRODID:-//Denver SPE - ECPv6.15.20//NONSGML v1.0//EN
CALSCALE:GREGORIAN
METHOD:PUBLISH
X-ORIGINAL-URL:https://denverspe.org
X-WR-CALDESC:Events for Denver SPE
REFRESH-INTERVAL;VALUE=DURATION:PT1H
X-Robots-Tag:noindex
X-PUBLISHED-TTL:PT1H
BEGIN:VTIMEZONE
TZID:America/Denver
BEGIN:DAYLIGHT
TZOFFSETFROM:-0700
TZOFFSETTO:-0600
TZNAME:MDT
DTSTART:20230312T090000
END:DAYLIGHT
BEGIN:STANDARD
TZOFFSETFROM:-0600
TZOFFSETTO:-0700
TZNAME:MST
DTSTART:20231105T080000
END:STANDARD
BEGIN:DAYLIGHT
TZOFFSETFROM:-0700
TZOFFSETTO:-0600
TZNAME:MDT
DTSTART:20240310T090000
END:DAYLIGHT
BEGIN:STANDARD
TZOFFSETFROM:-0600
TZOFFSETTO:-0700
TZNAME:MST
DTSTART:20241103T080000
END:STANDARD
BEGIN:DAYLIGHT
TZOFFSETFROM:-0700
TZOFFSETTO:-0600
TZNAME:MDT
DTSTART:20250309T090000
END:DAYLIGHT
BEGIN:STANDARD
TZOFFSETFROM:-0600
TZOFFSETTO:-0700
TZNAME:MST
DTSTART:20251102T080000
END:STANDARD
END:VTIMEZONE
BEGIN:VEVENT
DTSTART;TZID=America/Denver:20240227T160000
DTEND;TZID=America/Denver:20240227T180000
DTSTAMP:20260419T150715
CREATED:20240206T191103Z
LAST-MODIFIED:20240207T182303Z
UID:3170-1709049600-1709056800@denverspe.org
SUMMARY:Validation of Conductive Fracture Imaging with Cross Well Strain and Permanent Fiber Optic Flow   - February
DESCRIPTION:Host:  Society of Petroleum Engineers\, Denver Section \nEvent:  February 27 2024 Technical Happy Hour \nTime:  February 27th\, 4-6 (HH begins at 4\, Talk at 430\, Social until 6) \nLocation:  Ovintiv 40th Floor\, 370 17th St\, Denver\, CO 80202 \nStudy Group Category:  Completion  \nSpeaker: Scott Taylor\, Co-Founder\, CEO Reservoir Imaging Solutions LLC \n\nTitle:  Validation of Conductive Fracture Imaging with Cross Well Strain and Permanent Fiber Optic Flow   \n\nAbstract: \n The study applies Conductive Fracture Imaging (CFI) on Hydraulic Fracturing Test Site-2 in the Delaware Basin\, USA\, acquired in 2019. The CFI results are independently delivered and compared with strain data recorded by permanent distributed fiber optic sensor arrays in a vertical data well (the Boxwood 5PH) and two horizontal wells (Boxwood 3H and Boxwood 4H). Boxwood 4H’s permanent fiber provides Distributed Acoustic Sensing (DAS) cluster flow and proppant allocation analytics\, as well as distributed strain sensing (DSS) for cluster level shut-in pressure build-up tests. \nThe objective of this study is to directly compare CFI results with in-well DAS and DSS fiber optic measurements. CFI utilizes microseismic events as active sources for reflection imaging of the conductive portion of hydraulic fractures\, offering high-resolution images of the seismically active zone for precise description of cluster level fluid allocation and conductivity. \nCFI has been benchmarked successfully against established fiber optic diagnostics\, providing insights into conductive fracture geometries\, cluster efficiencies\, and in-well production flow profiling. Key advantages of CFI include imaging fluid and proppant allocation at the cluster level\, offering a four-dimensional view of dynamic transport\, estimating fracture height\, and providing valuable data on hydraulic and conductive fracture geometries. \nThe study reveals strong correlations between CFI and cross-well strain intensity measured by fiber monitors\, as well as good agreement with in-well DAS stimulation fluid allocation. Furthermore\, CFI shows clear correlations with cluster level DSS strain changes during the production phase\, accurately resolving cluster positions along the wellbore. Cluster level reflectivity values from CFI demonstrate a robust agreement with DSS strain change peak values observed on the same clusters. \nBio: \nScott has over 20 years’ direct experience spanning finance\, energy\, mining\, defense\, and civil engineering industries. He graduated from Franklin College (Lugano) Switzerland with BSc in Finance 2002. Scott started his career raising money for both public and private markets as well as mining project in commodities trading. He co-founded Reservoir Imaging Solutions (RIS) in 2019\, a technology-driven subsurface imaging company that was recognized by Darcy Partners as one of the top 10 subsurface oilfield technologies in 2022. Scott also founded Lithos in 2022 and took it public (CBOE:LITS) in Q2 of 2023. Lithos is a technology company focused on delivering sustainable lithium production from brine reservoirs. Scott has prior technical and financial experience in exploration\, development\, and pilot scale production on mines in Canada\, Mexico and the Russian Federation. His experience also includes five years working for an engineering company in the mining and energy space which included resource development and drill programs on mines\, and his skill-set enables him to work hands-on in the field and advising to use modern subsurface imaging techniques. He is a published author\, has 5 issued patents\, and is an invited speaker and member of the Society of Petroleum Engineers and the Society of Exploration Geophysicists. \nRegistration Link:  Click Here 
URL:https://denverspe.org/event/validation-of-conductive-fracture-imaging-with-cross-well-strain-and-permanent-fiber-optic-flow-february/
LOCATION:Ovintiv\, 40th floor\, 370 17th St\, Denver\, CO\, 80202\, United States
CATEGORIES:General,Technical
END:VEVENT
END:VCALENDAR