BEGIN:VCALENDAR
VERSION:2.0
PRODID:-//Denver SPE - ECPv6.15.20//NONSGML v1.0//EN
CALSCALE:GREGORIAN
METHOD:PUBLISH
X-ORIGINAL-URL:https://denverspe.org
X-WR-CALDESC:Events for Denver SPE
REFRESH-INTERVAL;VALUE=DURATION:PT1H
X-Robots-Tag:noindex
X-PUBLISHED-TTL:PT1H
BEGIN:VTIMEZONE
TZID:America/Denver
BEGIN:DAYLIGHT
TZOFFSETFROM:-0700
TZOFFSETTO:-0600
TZNAME:MDT
DTSTART:20230312T090000
END:DAYLIGHT
BEGIN:STANDARD
TZOFFSETFROM:-0600
TZOFFSETTO:-0700
TZNAME:MST
DTSTART:20231105T080000
END:STANDARD
BEGIN:DAYLIGHT
TZOFFSETFROM:-0700
TZOFFSETTO:-0600
TZNAME:MDT
DTSTART:20240310T090000
END:DAYLIGHT
BEGIN:STANDARD
TZOFFSETFROM:-0600
TZOFFSETTO:-0700
TZNAME:MST
DTSTART:20241103T080000
END:STANDARD
BEGIN:DAYLIGHT
TZOFFSETFROM:-0700
TZOFFSETTO:-0600
TZNAME:MDT
DTSTART:20250309T090000
END:DAYLIGHT
BEGIN:STANDARD
TZOFFSETFROM:-0600
TZOFFSETTO:-0700
TZNAME:MST
DTSTART:20251102T080000
END:STANDARD
END:VTIMEZONE
BEGIN:VEVENT
DTSTART;TZID=America/Denver:20240303T080000
DTEND;TZID=America/Denver:20240303T120000
DTSTAMP:20260419T150716
CREATED:20240124T021253Z
LAST-MODIFIED:20240314T144513Z
UID:3130-1709452800-1709467200@denverspe.org
SUMMARY:SOCO Polar Plunge
DESCRIPTION:  \nJoin our Team March 3\, 2024 to support Special Olympics Colorado. \n5K Run\Walk followed by an Ice Bath at Wash Park\, Denver\, CO \n  \nContact Julie Tannehill for more information: tannehilljulie@gmail.com \n 
URL:https://denverspe.org/event/polar-plunge/
LOCATION:CO
CATEGORIES:Outreach
END:VEVENT
END:VCALENDAR