BEGIN:VCALENDAR
VERSION:2.0
PRODID:-//Denver SPE - ECPv6.15.20//NONSGML v1.0//EN
CALSCALE:GREGORIAN
METHOD:PUBLISH
X-ORIGINAL-URL:https://denverspe.org
X-WR-CALDESC:Events for Denver SPE
REFRESH-INTERVAL;VALUE=DURATION:PT1H
X-Robots-Tag:noindex
X-PUBLISHED-TTL:PT1H
BEGIN:VTIMEZONE
TZID:America/Denver
BEGIN:DAYLIGHT
TZOFFSETFROM:-0700
TZOFFSETTO:-0600
TZNAME:MDT
DTSTART:20230312T090000
END:DAYLIGHT
BEGIN:STANDARD
TZOFFSETFROM:-0600
TZOFFSETTO:-0700
TZNAME:MST
DTSTART:20231105T080000
END:STANDARD
BEGIN:DAYLIGHT
TZOFFSETFROM:-0700
TZOFFSETTO:-0600
TZNAME:MDT
DTSTART:20240310T090000
END:DAYLIGHT
BEGIN:STANDARD
TZOFFSETFROM:-0600
TZOFFSETTO:-0700
TZNAME:MST
DTSTART:20241103T080000
END:STANDARD
BEGIN:DAYLIGHT
TZOFFSETFROM:-0700
TZOFFSETTO:-0600
TZNAME:MDT
DTSTART:20250309T090000
END:DAYLIGHT
BEGIN:STANDARD
TZOFFSETFROM:-0600
TZOFFSETTO:-0700
TZNAME:MST
DTSTART:20251102T080000
END:STANDARD
END:VTIMEZONE
BEGIN:VEVENT
DTSTART;VALUE=DATE:20240308
DTEND;VALUE=DATE:20240311
DTSTAMP:20260419T145914
CREATED:20240104T154030Z
LAST-MODIFIED:20240104T154803Z
UID:3069-1709856000-1710115199@denverspe.org
SUMMARY:2024 SPE YP Ski Fast Energy Bash
DESCRIPTION:Welcome to the Annual 2024 SPE YP Ski Fast Energy Convention hosted by the Society of Petroleum Engineers – Denver Section! If you’re a ski or snowboard enthusiast and in the oil & gas industry\, you won’t want to miss this blast of an event! This year we’ll be taking over the slopes of Keystone on March 8th – 10th\, with tons of skiing\, food\, drinks\, fun\, and great networking throughout the weekend! \nWe hope you will stay the weekend and enjoy the slopes\, great people\, and all the exciting events. Plan to buy tickets for the days you’ll ski; lift tickets are not included in the registration! Busses will depart on Friday Morning and will return late Sunday morning. Feel free to attend any and all events\, even if you don’t ski! \nQuestions? Contact SPE YP Denver Chairman\, James (james.debart@carboceramics.com) and/ or SPE Ski Committee Chairwoman\, Maureen (mevenson@selectchemistry.com) \nRegistration Options \nRegistration this year is a-la-carte; Housing and Weekend Registrations are separate. \nWeekend bundle includes the Friday Main Après Happy Hour\, Saturday BBQ & Bar Crawl\, Late Night Pizza and Weekend Beverages at the Mansions. \nThe Bus Registration is for roundtrip travel to and from Keystone. \nThe Friday Après Happy Hour includes a 3 year open bar and food at the base of Keystone. \nPricing: \n\nWeekend Bundle: $150\nRoundtrip Bus: $80\nFriday Main Après Happy Hour: $85\n\nHousing \nHousing this year is first come first serve. We have a limited number of beds\, so make sure to sign up early. We have priced the beds per category as to alleviate an confusion. \nPricing: \n\nPrivate Bedroom (Private Room\, Queen Bed: Sleeps 2): $850\nBachelor Bunks (Shared Room\, Single Bed: Sleeps 1): $350\nPull out couches (Living Room\, Single Bed: Sleeps 1): $200\n\nLift Tickets \nDon’t forget your lift tickets! Single-day tickets are available for purchase on the Keystone website (https://www.keystoneresort.com/plan-your-trip/lift-access/tickets) or the Epic Pass website (https://www.epicpass.com). We recommend purchasing tickets as soon as possible for pre-season discounts \nSponsorship Levels \nAll sponsorship tiers include a variety of PR exposure for the annual ski weekend convention (SPE YP newsletters\, Facebook\, LinkedIn\, industry groups throughout the United States chapters supporting the event) \nPowder Day Title Sponsor: $7500 \n\nName & Logo in Event title\nSPE Denver Section General Meetings Sponsor through 2024 – 2025\nFeatured in all SPE YP General Promotions through 2024 – 2025\nFeatured in all Ski Trip Promotions\nAnnouncements on the bus and at all events throughout the weekend\nAbility to present and speak in front of participants at Main Après Happy Hour\nOpportunity to distribute branded items to participants at all ski weekend events\nAbility to secure special weekend bundles for clients/ affiliates of your company\nTwo Private Bedrooms\n4 Weekend Bundles\n\nExtreme Terrain Sponsor(s): $4500 \n\nInclusion in all SPE YP General Promotions through 2024 – 2025\nSecond Largest logo on Ski Trip Promotions\nFeatured in all Ski Trip Promotions\nAnnouncements on the bus and at all events throughout the weekend\nOpportunity to distribute branded items to participants at all ski weekend events\nAbility to secure special weekend bundles for clients/ affiliates of your company\n3 Weekend Bundles\n\nDouble Black Diamond Sponsor(s): $3000 \n\nMedium logo on Ski Trip Promotions\nFeatured in all Ski Trip Promotions\nOpportunity to distribute branded items to participants at ski day events\n2 Weekend Bundles\n\nYard Sale Sponsor(s): $1000 \n\nSmall logo on Ski Trip Promotions\nFeatured in all Ski Trip Promotions\nOpportunity to distribute branded items to participants at ski day events.\n\nWe look forward to seeing you again this year for the 2024 SPE YP Ski Fast Energy Convention!! \n-SPE Denver\, Young Professionals \nRegister for ski or sponsor here!
URL:https://denverspe.org/event/2024-spe-yp-ski-fast-energy-bash/
LOCATION:Keystone Resort\, 100 Dercum Square\, Keystone\, Colorado\, 80435
CATEGORIES:Young Professionals
END:VEVENT
END:VCALENDAR