BEGIN:VCALENDAR
VERSION:2.0
PRODID:-//Denver SPE - ECPv6.15.20//NONSGML v1.0//EN
CALSCALE:GREGORIAN
METHOD:PUBLISH
X-ORIGINAL-URL:https://denverspe.org
X-WR-CALDESC:Events for Denver SPE
REFRESH-INTERVAL;VALUE=DURATION:PT1H
X-Robots-Tag:noindex
X-PUBLISHED-TTL:PT1H
BEGIN:VTIMEZONE
TZID:America/Denver
BEGIN:DAYLIGHT
TZOFFSETFROM:-0700
TZOFFSETTO:-0600
TZNAME:MDT
DTSTART:20230312T090000
END:DAYLIGHT
BEGIN:STANDARD
TZOFFSETFROM:-0600
TZOFFSETTO:-0700
TZNAME:MST
DTSTART:20231105T080000
END:STANDARD
BEGIN:DAYLIGHT
TZOFFSETFROM:-0700
TZOFFSETTO:-0600
TZNAME:MDT
DTSTART:20240310T090000
END:DAYLIGHT
BEGIN:STANDARD
TZOFFSETFROM:-0600
TZOFFSETTO:-0700
TZNAME:MST
DTSTART:20241103T080000
END:STANDARD
BEGIN:DAYLIGHT
TZOFFSETFROM:-0700
TZOFFSETTO:-0600
TZNAME:MDT
DTSTART:20250309T090000
END:DAYLIGHT
BEGIN:STANDARD
TZOFFSETFROM:-0600
TZOFFSETTO:-0700
TZNAME:MST
DTSTART:20251102T080000
END:STANDARD
END:VTIMEZONE
BEGIN:VEVENT
DTSTART;TZID=America/Denver:20240423T160000
DTEND;TZID=America/Denver:20240423T180000
DTSTAMP:20260419T132150
CREATED:20240401T174354Z
LAST-MODIFIED:20240401T180018Z
UID:3325-1713888000-1713895200@denverspe.org
SUMMARY:Quantitative Analysis of HFTS-2 Completion Designs using Cross-well Strain Measurement
DESCRIPTION:Host:  Society of Petroleum Engineers\, Denver Section \nEvent:  April 2024 Technical Happy Hour​ \nTime:  April 23rd\, 4-6 (HH begins at 4\, Talk at 430\, Social until 6) \nLocation: Ovintiv 40th Floor\, 370 17th St\, Denver\, CO 80202 \nStudy Group Category:  Completion  \nSpeaker: Joseph Mjehovich\, Geophysicist\, IFDATA LLC \nTitle:  Quantitative Analysis of HFTS-2 Completion Designs using Cross-well Strain Measurement \nAbstract: \nLow-frequency Distributed Acoustic Sensing (LF-DAS) based cross-well strain measurement is an advanced monitoring technique used to diagnose completion design efficiency but has been primarily restricted to qualitative analysis. In this study\, we apply our novel Green-function based inversion algorithm to calculate fracture geometry (i.e.\, width) using the Department of Energy sponsored Hydraulic Fracturing Test Site 2 (HFTS-2) dataset. \nWe use the inversion algorithm to calculate dynamic fracture widths using LF-DAS data recorded at two horizontal monitoring wells with permanent optical fiber installations. The inverted fracture widths at the monitoring wells from over 100 hydraulic fracturing stages are used to diagnose the efficiency of eight unique completion designs implemented across three fracturing wells. We develop several metrics to evaluate completion design efficiency including the evenness of fracture widths at the monitoring wells\, fracture density (i.e.\, number of fracture hits per ft)\, and fracture-width-density (i.e.\, fracture width/stage length). \nWe observe a significant impact on completion efficiency with varying degrees of limited entry\, tapered configurations\, and stage length designs. Results indicate improved hydraulic stimulation is achieved with the implementation of limited entry designs for extended stage lengths\, but no observable trend for normal stage lengths. Tapered configurations significantly improve efficiency for extended stage lengths but indicate little impact on normal length designs. Additionally\, our quantitative analysis describes the impact of the nearby depletion zone on completion design efficiency. The methodology developed in this study provides operators with another level of quantitative information to optimize hydraulic fracturing treatments and reduce costs associated with the development of unconventional wells. \nBio: \nJoseph Mjehovich is a Geophysicist at IFDATA LLC\, specializing in the research and development of Distributed Fiber-Optic Sensing for reservoir characterization and well design diagnostics. His primary focus lies in advancing the understanding\, analysis\, and interpretation of cross-well based fiber-optic measurements. At IFDATA\, Joseph seamlessly integrates the company’s research and workflows into real-world field projects\, delivering valuable insights and solutions for clients. \nJoseph earned his Master of Science degree in Geophysics from the Colorado School of Mines\, where he made contributions as a research associate in the Reservoir Characterization Project (RCP) Consortium. His research centered on the quantitative analysis of distributed fiber-optic sensing data to deepen understanding of the key factors driving hydraulic fracture development. Additionally\, Joseph explored the application of distributed acoustic sensing for near-surface seismic surveys aimed at earthquake hazard site classification. \nJoseph has several publications\, including the URTeC 2023 Best of Paper\, and currently has a patent pending with IFDATA LLC. He also received the Harold Mendenhall Geophysics Award while at Mines for conducting cutting-edge and collaborative research. \nRegistration: Click HERE
URL:https://denverspe.org/event/quantitative-analysis-of-hfts-2-completion-designs-using-cross-well-strain-measurement/
LOCATION:CO
CATEGORIES:General,Technical
END:VEVENT
END:VCALENDAR