BEGIN:VCALENDAR
VERSION:2.0
PRODID:-//Denver SPE - ECPv6.15.20//NONSGML v1.0//EN
CALSCALE:GREGORIAN
METHOD:PUBLISH
X-ORIGINAL-URL:https://denverspe.org
X-WR-CALDESC:Events for Denver SPE
REFRESH-INTERVAL;VALUE=DURATION:PT1H
X-Robots-Tag:noindex
X-PUBLISHED-TTL:PT1H
BEGIN:VTIMEZONE
TZID:America/Denver
BEGIN:DAYLIGHT
TZOFFSETFROM:-0700
TZOFFSETTO:-0600
TZNAME:MDT
DTSTART:20230312T090000
END:DAYLIGHT
BEGIN:STANDARD
TZOFFSETFROM:-0600
TZOFFSETTO:-0700
TZNAME:MST
DTSTART:20231105T080000
END:STANDARD
BEGIN:DAYLIGHT
TZOFFSETFROM:-0700
TZOFFSETTO:-0600
TZNAME:MDT
DTSTART:20240310T090000
END:DAYLIGHT
BEGIN:STANDARD
TZOFFSETFROM:-0600
TZOFFSETTO:-0700
TZNAME:MST
DTSTART:20241103T080000
END:STANDARD
BEGIN:DAYLIGHT
TZOFFSETFROM:-0700
TZOFFSETTO:-0600
TZNAME:MDT
DTSTART:20250309T090000
END:DAYLIGHT
BEGIN:STANDARD
TZOFFSETFROM:-0600
TZOFFSETTO:-0700
TZNAME:MST
DTSTART:20251102T080000
END:STANDARD
END:VTIMEZONE
BEGIN:VEVENT
DTSTART;TZID=America/Denver:20240504T074500
DTEND;TZID=America/Denver:20240504T140000
DTSTAMP:20260419T112742
CREATED:20240210T103126Z
LAST-MODIFIED:20240212T213219Z
UID:3184-1714808700-1714831200@denverspe.org
SUMMARY:Volunteers Needed: DPS District Science Fair
DESCRIPTION:Please sign up to volunteer as a judge at the Denver Public Schools District Science Fair on 5/4/24 at CSU Spur. We are in need of 30 judges\, 10 of whom will be available until 2pm in order to judge secondary projects\, after judging elementary projects in the morning. Basic knowledge of the scientific method is required.\nRegister Here
URL:https://denverspe.org/event/dps-district-science-fair/
LOCATION:CSU Spur\, 4777 National Western Dr\, Denver\, CO\, 80216\, United States
CATEGORIES:Outreach
END:VEVENT
END:VCALENDAR