BEGIN:VCALENDAR
VERSION:2.0
PRODID:-//Denver SPE - ECPv6.15.20//NONSGML v1.0//EN
CALSCALE:GREGORIAN
METHOD:PUBLISH
X-ORIGINAL-URL:https://denverspe.org
X-WR-CALDESC:Events for Denver SPE
REFRESH-INTERVAL;VALUE=DURATION:PT1H
X-Robots-Tag:noindex
X-PUBLISHED-TTL:PT1H
BEGIN:VTIMEZONE
TZID:America/Denver
BEGIN:DAYLIGHT
TZOFFSETFROM:-0700
TZOFFSETTO:-0600
TZNAME:MDT
DTSTART:20230312T090000
END:DAYLIGHT
BEGIN:STANDARD
TZOFFSETFROM:-0600
TZOFFSETTO:-0700
TZNAME:MST
DTSTART:20231105T080000
END:STANDARD
BEGIN:DAYLIGHT
TZOFFSETFROM:-0700
TZOFFSETTO:-0600
TZNAME:MDT
DTSTART:20240310T090000
END:DAYLIGHT
BEGIN:STANDARD
TZOFFSETFROM:-0600
TZOFFSETTO:-0700
TZNAME:MST
DTSTART:20241103T080000
END:STANDARD
BEGIN:DAYLIGHT
TZOFFSETFROM:-0700
TZOFFSETTO:-0600
TZNAME:MDT
DTSTART:20250309T090000
END:DAYLIGHT
BEGIN:STANDARD
TZOFFSETFROM:-0600
TZOFFSETTO:-0700
TZNAME:MST
DTSTART:20251102T080000
END:STANDARD
END:VTIMEZONE
BEGIN:VEVENT
DTSTART;TZID=America/Denver:20240516T080000
DTEND;TZID=America/Denver:20240516T170000
DTSTAMP:20260419T115200
CREATED:20240401T172329Z
LAST-MODIFIED:20240515T131416Z
UID:3319-1715846400-1715878800@denverspe.org
SUMMARY:Girls Entering STEM Volunteer Event
DESCRIPTION:
URL:https://denverspe.org/event/girls-entering-stem-volunteer-event/
LOCATION:University of Colorado Auraria Campus\, Denver
CATEGORIES:Energy4Me,Outreach
END:VEVENT
BEGIN:VEVENT
DTSTART;TZID=America/Denver:20240516T113000
DTEND;TZID=America/Denver:20240516T130000
DTSTAMP:20260419T115200
CREATED:20240511T131352Z
LAST-MODIFIED:20240523T220029Z
UID:3478-1715859000-1715864400@denverspe.org
SUMMARY:SPE YP Lunch & Learn - Fervo Energy's Geothermal Projects
DESCRIPTION:  \nSPE Young Professionals: May Lunch & Learn \nAbstract: \nSurging demand for 24/7 clean energy has catalyzed rapid growth in next-generation geothermal development. Understand how Fervo Energy is leveraging engineering excellence and proven oil and gas technology to transform the heat beneath our feet into a scalable\, reliable\, cost-effective resource capable of solving the energy trilemma. \nBiography: \nCamden Lang is a Drilling & Completions Operations Engineer from Fervo Energy focusing on the production and asset development on Fervo Energy Geothermal Projects. Prior to Fervo\, Camden worked as a Co-op development engineer for Discovery Natural Resources and then worked for XTO Energy as an Operations Engineer in their Bakken Asset. Camden holds a Bachelor of Applied Science in Petroleum Engineering with a minor in Humanitarian Engineering from the Colorado School of Mines. \n  \nRegistration: Click HERE \n  \nLunch & Learn Sponsors:
URL:https://denverspe.org/event/spe-yp-lunch-learn-fervo-energys-geothermal-projects/
LOCATION:Liberty Energy\, 950 17th St Suite #24\, Denver\, CO\, 80202\, United States
CATEGORIES:Young Professionals
END:VEVENT
BEGIN:VEVENT
DTSTART;TZID=America/Denver:20240516T160000
DTEND;TZID=America/Denver:20240516T190000
DTSTAMP:20260419T115200
CREATED:20240511T131919Z
LAST-MODIFIED:20240523T220012Z
UID:3488-1715875200-1715886000@denverspe.org
SUMMARY:SPE x AADE x YPE Denver YP Summer Soiree
DESCRIPTION:  \nJoin SPE x AADE x YPE Denver Young Professionals for our Summer Soirée! Presented by Profrac\, enjoy summer libations and network with us! \n  \nRegistration: Click HERE \n 
URL:https://denverspe.org/event/spe-x-aade-x-ype-denver-yp-summer-soiree/
LOCATION:The University Club of Denver\, 1673 Sherman Street\, Denver\, CO\, 80203\, United States
CATEGORIES:Young Professionals
END:VEVENT
END:VCALENDAR