BEGIN:VCALENDAR
VERSION:2.0
PRODID:-//Denver SPE - ECPv6.15.20//NONSGML v1.0//EN
CALSCALE:GREGORIAN
METHOD:PUBLISH
X-ORIGINAL-URL:https://denverspe.org
X-WR-CALDESC:Events for Denver SPE
REFRESH-INTERVAL;VALUE=DURATION:PT1H
X-Robots-Tag:noindex
X-PUBLISHED-TTL:PT1H
BEGIN:VTIMEZONE
TZID:America/Denver
BEGIN:DAYLIGHT
TZOFFSETFROM:-0700
TZOFFSETTO:-0600
TZNAME:MDT
DTSTART:20230312T090000
END:DAYLIGHT
BEGIN:STANDARD
TZOFFSETFROM:-0600
TZOFFSETTO:-0700
TZNAME:MST
DTSTART:20231105T080000
END:STANDARD
BEGIN:DAYLIGHT
TZOFFSETFROM:-0700
TZOFFSETTO:-0600
TZNAME:MDT
DTSTART:20240310T090000
END:DAYLIGHT
BEGIN:STANDARD
TZOFFSETFROM:-0600
TZOFFSETTO:-0700
TZNAME:MST
DTSTART:20241103T080000
END:STANDARD
BEGIN:DAYLIGHT
TZOFFSETFROM:-0700
TZOFFSETTO:-0600
TZNAME:MDT
DTSTART:20250309T090000
END:DAYLIGHT
BEGIN:STANDARD
TZOFFSETFROM:-0600
TZOFFSETTO:-0700
TZNAME:MST
DTSTART:20251102T080000
END:STANDARD
END:VTIMEZONE
BEGIN:VEVENT
DTSTART;TZID=America/Denver:20240828T170000
DTEND;TZID=America/Denver:20240828T200000
DTSTAMP:20260419T060956
CREATED:20240805T153247Z
LAST-MODIFIED:20240806T215406Z
UID:3520-1724864400-1724875200@denverspe.org
SUMMARY:2024 Summer Social and Awards Banquet
DESCRIPTION:  \nPlease join us on August 28th from 5-8pm to celebrate our award winners in the Denver Section! Each ticket will include two free drink tickets along with appetizers. Event registration is $50\, walk-ins are $60. Registration for all of our award recipients is free! Come join us August 28th at Tamayo! \nRSVP: https://denverspe.org/event/2024-summer-social-and-awards-banquet/
URL:https://denverspe.org/event/2024-summer-social-and-awards-banquet/
LOCATION:Tamayo\, 1400 Larimer St\, Denver\, CO\, 80202\, United States
CATEGORIES:Award,Networking
ORGANIZER;CN="SPE Denver Section":MAILTO:denversection@spemail.org
END:VEVENT
END:VCALENDAR