BEGIN:VCALENDAR
VERSION:2.0
PRODID:-//Denver SPE - ECPv6.15.20//NONSGML v1.0//EN
CALSCALE:GREGORIAN
METHOD:PUBLISH
X-ORIGINAL-URL:https://denverspe.org
X-WR-CALDESC:Events for Denver SPE
REFRESH-INTERVAL;VALUE=DURATION:PT1H
X-Robots-Tag:noindex
X-PUBLISHED-TTL:PT1H
BEGIN:VTIMEZONE
TZID:America/Denver
BEGIN:DAYLIGHT
TZOFFSETFROM:-0700
TZOFFSETTO:-0600
TZNAME:MDT
DTSTART:20220313T090000
END:DAYLIGHT
BEGIN:STANDARD
TZOFFSETFROM:-0600
TZOFFSETTO:-0700
TZNAME:MST
DTSTART:20221106T080000
END:STANDARD
BEGIN:DAYLIGHT
TZOFFSETFROM:-0700
TZOFFSETTO:-0600
TZNAME:MDT
DTSTART:20230312T090000
END:DAYLIGHT
BEGIN:STANDARD
TZOFFSETFROM:-0600
TZOFFSETTO:-0700
TZNAME:MST
DTSTART:20231105T080000
END:STANDARD
BEGIN:DAYLIGHT
TZOFFSETFROM:-0700
TZOFFSETTO:-0600
TZNAME:MDT
DTSTART:20240310T090000
END:DAYLIGHT
BEGIN:STANDARD
TZOFFSETFROM:-0600
TZOFFSETTO:-0700
TZNAME:MST
DTSTART:20241103T080000
END:STANDARD
BEGIN:DAYLIGHT
TZOFFSETFROM:-0700
TZOFFSETTO:-0600
TZNAME:MDT
DTSTART:20250309T090000
END:DAYLIGHT
BEGIN:STANDARD
TZOFFSETFROM:-0600
TZOFFSETTO:-0700
TZNAME:MST
DTSTART:20251102T080000
END:STANDARD
BEGIN:DAYLIGHT
TZOFFSETFROM:-0700
TZOFFSETTO:-0600
TZNAME:MDT
DTSTART:20260308T090000
END:DAYLIGHT
BEGIN:STANDARD
TZOFFSETFROM:-0600
TZOFFSETTO:-0700
TZNAME:MST
DTSTART:20261101T080000
END:STANDARD
BEGIN:DAYLIGHT
TZOFFSETFROM:-0700
TZOFFSETTO:-0600
TZNAME:MDT
DTSTART:20270314T090000
END:DAYLIGHT
BEGIN:STANDARD
TZOFFSETFROM:-0600
TZOFFSETTO:-0700
TZNAME:MST
DTSTART:20271107T080000
END:STANDARD
END:VTIMEZONE
BEGIN:VEVENT
DTSTART;TZID=America/Denver:20260220T123000
DTEND;TZID=America/Denver:20260220T160000
DTSTAMP:20260420T065725
CREATED:20260108T234203Z
LAST-MODIFIED:20260128T145842Z
UID:5633-1771590600-1771603200@denverspe.org
SUMMARY:SPE Denver 46th Annual Racquetball Tournament
DESCRIPTION:Join us for our 46th Annual Racquetball tournament at Denver Athletic club. Come for a fun afternoon of competition and socializing with fellow oil and gas industry professionals. All levels of play are welcome! Typically\, there will be four different skill divisions from novice to A/B. \n  \n-Registration starts at $45 for members \n-Student Registration is $25 \nSponsorship Levels: \nPlatinum – $600 \nGold – $450 \nSilver – $350 \n  \nRegister Here
URL:https://denverspe.org/event/spe-denver-46th-annual-racquetball-tournament/
LOCATION:Denver Athletic Club\, 1325 Glenarm Pl\, Denver\, CO\, 80204
CATEGORIES:Racquetball,Sporting Event
ATTACH;FMTTYPE=image/png:https://denverspe.org/wp-content/uploads/2026/01/2025-Raquetball-Tournament_Save-the-Date_Linked-In-4.png
END:VEVENT
BEGIN:VEVENT
DTSTART;TZID=America/Denver:20251114T150000
DTEND;TZID=America/Denver:20251114T190000
DTSTAMP:20260420T065725
CREATED:20250929T164632Z
LAST-MODIFIED:20251111T180654Z
UID:5559-1763132400-1763146800@denverspe.org
SUMMARY:Rocky Mountain Oilfield Pickleball Showdown
DESCRIPTION:Event description\n\n  \nGet ready to swing\, slam\, and pickle like never before at the Rocky Mountain Oilfield Pickleball Tournament\, hitting the courts Friday\, Nov 14th! 🏓 \nWe’re at a 20 team limit\, so grab your spot and join the ultimate showdown at 3rd Shot Pickleball from 3pm-7pm. Sip on tasty drinks\, unleash your inner pickleball Rockstar\, and compete to crown the oilfield’s fiercest picklers! Kick things off with electrifying pool play—top 2 teams from each 4-team pool storm the winners’ bracket to battle for glory\, while the bottom 2 duke it out for a shot at 3rd place. 🏆 \nPrizes await the top 3 teams (2 in winners bracket & winner of the losers bracket)\, so bring your A-game or your play for fun! Doubles teams\, show off your vibe with epic themes—costumes encouraged! No gear? No problem! We’ve got paddles and pickleballs for all registered players. Let’s make this tournament a total SMASH! 🎉 \nRegister Here
URL:https://denverspe.org/event/rocky-mountain-oilfield-pickleball-showdown/
LOCATION:3rd Shot Pickleball\, 3545 Wadsworth Blvd\, Wheat Ridge\, CO\, CO\, 80033\, United States
CATEGORIES:Pickleball
ATTACH;FMTTYPE=image/jpeg:https://denverspe.org/wp-content/uploads/2025/09/download-pick-spe.jpg
ORGANIZER;CN="SPE Denver Section":MAILTO:denversection@spemail.org
END:VEVENT
BEGIN:VEVENT
DTSTART;TZID=America/Denver:20250808T073000
DTEND;TZID=America/Denver:20250808T130000
DTSTAMP:20260420T065725
CREATED:20250804T161756Z
LAST-MODIFIED:20250805T124929Z
UID:5499-1754638200-1754658000@denverspe.org
SUMMARY:2025 Denver SPE Golf Tournament Scholarship Fundraiser
DESCRIPTION:Time is running out to join us for a great day of golf in support of the SPE Scholarship Fund\, which benefits petroleum engineering students in the Rocky Mountain Region. Last year\, we raised $35\,000 — let’s go even bigger this year!\n Morning rounds are SOLD OUT\, and we have only 6 foursome spots left for the afternoon. Don’t wait — these will go fast!\n $1\,000 per foursome includes green fee\, cart rental\, and meals based on tee time.\n Secure your team here: Register Here\nLet’s tee off for a great cause — see you on the green this Friday!
URL:https://denverspe.org/event/2025-denver-spe-golf-tournament-scholarship-fundraiser/
LOCATION:The Ridge at Castle Pines North\, 1414 Castle Pines Pkwy\, Castle Pines\, Colorado\, 80108
CATEGORIES:Golf
ORGANIZER;CN="SPE Denver Section":MAILTO:denversection@spemail.org
END:VEVENT
BEGIN:VEVENT
DTSTART;TZID=America/Denver:20240223T123000
DTEND;TZID=America/Denver:20240223T160000
DTSTAMP:20260420T065725
CREATED:20231204T162319Z
LAST-MODIFIED:20240209T182749Z
UID:2989-1708691400-1708704000@denverspe.org
SUMMARY:44th Annual Racquetball Tournament
DESCRIPTION:Event Details and Registration Here! \nSponsorship Levels\nPlatinum – $600\nGold – $450\nSilver – $350
URL:https://denverspe.org/event/annual-raquetball-tournament/
LOCATION:Denver Athletic Club\, 1325 Glenarm Pl\, Denver\, CO\, 80204
CATEGORIES:Racquetball
ORGANIZER;CN="SPE Denver Section":MAILTO:denversection@spemail.org
END:VEVENT
BEGIN:VEVENT
DTSTART;TZID=America/Denver:20231006T090000
DTEND;TZID=America/Denver:20231006T170000
DTSTAMP:20260420T065725
CREATED:20230401T021844Z
LAST-MODIFIED:20230511T211648Z
UID:2522-1696582800-1696611600@denverspe.org
SUMMARY:Colorado School of Mines AADE-SPE Golf Tournament
DESCRIPTION:Event has been postponed until October 6th due to weather!
URL:https://denverspe.org/event/csm-aade-spe-golf-tournament/
LOCATION:The Ridge at Castle Pines North\, 1414 Castle Pines Pkwy\, Castle Pines\, Colorado\, 80108
CATEGORIES:Golf
END:VEVENT
BEGIN:VEVENT
DTSTART;TZID=America/Denver:20230811T073000
DTEND;TZID=America/Denver:20230811T170000
DTSTAMP:20260420T065725
CREATED:20230512T011011Z
LAST-MODIFIED:20230531T200514Z
UID:2583-1691739000-1691773200@denverspe.org
SUMMARY:2023 SPE Denver Golf Tournament
DESCRIPTION:Dear Fellow SPE Golf Sponsors: \nThe Denver Section of the Society of Petroleum Engineers is pleased to announce our annual golf tournament on Friday August 11th at The Ridge at Castle Pines North. As in previous years\, breakfast\, lunch and dinner will be included. Separate award ceremonies and raffle drawings will take place immediately following each flight\, thereby eliminating the need to return in the evening to collect prizes. \nThe proceeds from the tournament benefit the SPE Scholarship Fund and are distributed to petroleum engineering students in the Rocky Mountain Region. Our 2022 tournament resulted in a donation of over $36\,000! We constantly strive to exceed the previous years’ donations and to do so\, we will need the continued support of your organization. \nThe majority of the scholarship money comes from your generous sponsorship and support. Those companies generously donating $1\,500 or more will receive the ultimate recognition as a Platinum Sponsor. Likewise\, companies donating $1000\, $500 or $300 will be recognized as Gold\, Silver\, or Bronze sponsors. The sponsoring companies will be recognized at the tournament and in the SPE Newsletter. \nClick here to register or visit the Denver SPE website at Denver.spe.org \nPlease contact Sam Armstrong at denverspegolf@gmail.com with any questions or concerns with registration. \nPlease pass this letter along to your coworkers and friends in the Industry. \nThe facilities at The Ridge at Castle Pines North are spectacular and challenging. We hope that you can be a part of the 2023 SPE Golf Tournament with both your contribution and your participation. Your support is truly appreciated. \n  \nBest Regards\,\nChris Guidry\nSPE Golf Committee Chairman \n  \nRegister Here
URL:https://denverspe.org/event/2023-spe-denver-golf-tournament/
LOCATION:The Ridge at Castle Pines North\, 1414 Castle Pines Pkwy\, Castle Pines\, Colorado\, 80108
CATEGORIES:Golf
END:VEVENT
BEGIN:VEVENT
DTSTART;TZID=America/Denver:20230224T123000
DTEND;TZID=America/Denver:20230224T150000
DTSTAMP:20260420T065725
CREATED:20230112T012028Z
LAST-MODIFIED:20230221T205138Z
UID:2269-1677241800-1677250800@denverspe.org
SUMMARY:SPE 43rd Annual Raquetball Winter Tournament
DESCRIPTION:Join us for an afternoon of fun\, competition and socializing. All levels of play are welcome; typically there will be 4 different skill divisions\, from novice through A/B. \n\nWhen: FEBRUARY 24\, 2023\, 12:30 PM\nWhere: Denver Athletic Club (downtown)\nWhat: Racquetball / Handball \n• Cost to enter: $40.00 (all net proceeds go to the SPE scholarship fund). Includes after tourney banquet with drinks\, appetizers\, awards and door prizes.\n• Information and registration available on the Denver SPE website\, at: https://denverspe.org/\n• For more information\, e-mail tournament organizer (John) at: jarsenault@bayswater.us
URL:https://denverspe.org/event/spe-43rd-annual-winter-tournament/
LOCATION:Denver Athletic Club\, 1325 Glenarm Pl\, Denver\, CO\, 80204
CATEGORIES:Racquetball
END:VEVENT
END:VCALENDAR