BEGIN:VCALENDAR
VERSION:2.0
PRODID:-//Denver SPE - ECPv6.15.20//NONSGML v1.0//EN
CALSCALE:GREGORIAN
METHOD:PUBLISH
X-ORIGINAL-URL:https://denverspe.org
X-WR-CALDESC:Events for Denver SPE
REFRESH-INTERVAL;VALUE=DURATION:PT1H
X-Robots-Tag:noindex
X-PUBLISHED-TTL:PT1H
BEGIN:VTIMEZONE
TZID:America/Denver
BEGIN:DAYLIGHT
TZOFFSETFROM:-0700
TZOFFSETTO:-0600
TZNAME:MDT
DTSTART:20250309T090000
END:DAYLIGHT
BEGIN:STANDARD
TZOFFSETFROM:-0600
TZOFFSETTO:-0700
TZNAME:MST
DTSTART:20251102T080000
END:STANDARD
BEGIN:DAYLIGHT
TZOFFSETFROM:-0700
TZOFFSETTO:-0600
TZNAME:MDT
DTSTART:20260308T090000
END:DAYLIGHT
BEGIN:STANDARD
TZOFFSETFROM:-0600
TZOFFSETTO:-0700
TZNAME:MST
DTSTART:20261101T080000
END:STANDARD
BEGIN:DAYLIGHT
TZOFFSETFROM:-0700
TZOFFSETTO:-0600
TZNAME:MDT
DTSTART:20270314T090000
END:DAYLIGHT
BEGIN:STANDARD
TZOFFSETFROM:-0600
TZOFFSETTO:-0700
TZNAME:MST
DTSTART:20271107T080000
END:STANDARD
END:VTIMEZONE
BEGIN:VEVENT
DTSTART;TZID=America/Denver:20260127T160000
DTEND;TZID=America/Denver:20260127T180000
DTSTAMP:20260420T031203
CREATED:20260103T021928Z
LAST-MODIFIED:20260103T021928Z
UID:5627-1769529600-1769536800@denverspe.org
SUMMARY:SPE Technical Happy Hour: January 2026
DESCRIPTION:Host: Society of Petroleum Engineers\, Denver Section\nEvent: January 2026 Technical Happy Hour\nTime: January 27th\, 4-6 (HH begins at 4\, Talk at 430\, Social until 6)\nLocation: Liberty Energy\, 950 17th St\, Suite 2400\, Denver\, CO 80202\nSponsor: Liberty Energy\nStudy Group Category: Completions\nSpeaker: Dr. Ge Jin\, Associate Professor\, Colorado School of Mines \n  \nTitle: Abnormal Fracture Propagation during Hydraulic Fracturing Captured by Cross-well Strain Sensing\nMeasurements \n  \n  \nAbstract:\nFiber-optic cross-well strain measurements have proven to be a powerful tool for optimizing hydraulic\nfracturing operations\, including well spacing and completion designs. As more field data have been\ncollected\, abnormal fracture propagation behaviors have emerged in several case studies from\ngeologically complex areas. In this presentation\, I’ll showcase field measurements that reveal abnormal\nstrain patterns associated with natural fracture stimulation\, fault reactivation\, and large-scale bedding\nplane slippage. These case studies demonstrate the power of cross-well strain measurements to\ncharacterize abnormal fracture behavior while highlighting how geology impacts stimulation results and\nefficiency. \n  \n  \n  \nBio:\nDr. Ge Jin is an Associate Professor of Geophysics and Co-director of Reservoir Characterization Project\nat Colorado School of Mines. His research interests focus on applications of Distributed Fiber-Optic\nSensing (DFOS) in geoscience and engineering\, as well as seismic imaging and machine learning\ntechniques. He received the ARMA Case Study Award in 2025\, delivered the AAPG/SEG Distinguished\nLecture in 2024\, received the Best Paper award at the URTeC conference in 2023 and 2024. Before\njoining Colorado School of Mines\, Dr. Jin worked for five years as a research geophysicist at\nConocoPhillips. Dr. Jin earned his Ph.D. in Geophysics from Columbia University and holds dual B.S.\ndegrees in Geophysics and Computer Science from Peking University. \n  \n  \nRegister Here
URL:https://denverspe.org/event/spe-technical-happy-hour-january-2026/
LOCATION:Liberty Energy\, 950 17th St Suite #24\, Denver\, CO\, 80202\, United States
CATEGORIES:Study Groups,Technical
ATTACH;FMTTYPE=image/png:https://denverspe.org/wp-content/uploads/2026/01/Website-Slide-Design-1200-x-456-px-6.png
ORGANIZER;CN="SPE Denver Section":MAILTO:denversection@spemail.org
END:VEVENT
END:VCALENDAR