BEGIN:VCALENDAR
VERSION:2.0
PRODID:-//Denver SPE - ECPv6.15.20//NONSGML v1.0//EN
CALSCALE:GREGORIAN
METHOD:PUBLISH
X-ORIGINAL-URL:https://denverspe.org
X-WR-CALDESC:Events for Denver SPE
REFRESH-INTERVAL;VALUE=DURATION:PT1H
X-Robots-Tag:noindex
X-PUBLISHED-TTL:PT1H
BEGIN:VTIMEZONE
TZID:America/Denver
BEGIN:DAYLIGHT
TZOFFSETFROM:-0700
TZOFFSETTO:-0600
TZNAME:MDT
DTSTART:20240310T090000
END:DAYLIGHT
BEGIN:STANDARD
TZOFFSETFROM:-0600
TZOFFSETTO:-0700
TZNAME:MST
DTSTART:20241103T080000
END:STANDARD
BEGIN:DAYLIGHT
TZOFFSETFROM:-0700
TZOFFSETTO:-0600
TZNAME:MDT
DTSTART:20250309T090000
END:DAYLIGHT
BEGIN:STANDARD
TZOFFSETFROM:-0600
TZOFFSETTO:-0700
TZNAME:MST
DTSTART:20251102T080000
END:STANDARD
BEGIN:DAYLIGHT
TZOFFSETFROM:-0700
TZOFFSETTO:-0600
TZNAME:MDT
DTSTART:20260308T090000
END:DAYLIGHT
BEGIN:STANDARD
TZOFFSETFROM:-0600
TZOFFSETTO:-0700
TZNAME:MST
DTSTART:20261101T080000
END:STANDARD
END:VTIMEZONE
BEGIN:VEVENT
DTSTART;TZID=America/Denver:20250123T113000
DTEND;TZID=America/Denver:20250123T130000
DTSTAMP:20260419T065251
CREATED:20241115T172411Z
LAST-MODIFIED:20250121T211017Z
UID:4487-1737631800-1737637200@denverspe.org
SUMMARY:YP January Lunch and Learn
DESCRIPTION:Join us on January 23rd at Liberty Energy for Utilizing High Resolution Acoustic Imaging for Well Integrity and Well Intervention Diagnostics. \nHigh-Resolution Acoustic Imaging for Well Diagnostics \nLearn how high-resolution acoustic imaging revolutionizes well diagnostics by accurately characterizing and measuring complex casing defects including casing collapse\, deformation and ovality\, obstructions and fish tops\, connection issues\, corrosion\, and manufacturing defects. After introducing the technology and specific applications\, this presentation focuses on a series of case studies including: \n\nRetrieving tubing in producing and complex P&A wells\nCasing collapse due to fracture driven interactions (FDIs)\nParted casing as a result of milling operations\n\nLunch will be provided! Registration is free! \nRegister Here
URL:https://denverspe.org/event/yp-january-lunch-and-learn/
LOCATION:Liberty Energy\, 950 17th St Suite #24\, Denver\, CO\, 80202\, United States
CATEGORIES:Young Professionals
ATTACH;FMTTYPE=image/png:https://denverspe.org/wp-content/uploads/2024/11/YP-SPE_TechProg_LinkedIn-2.png
END:VEVENT
BEGIN:VEVENT
DTSTART;TZID=America/Denver:20250123T170000
DTEND;TZID=America/Denver:20250123T190000
DTSTAMP:20260419T065251
CREATED:20241226T175557Z
LAST-MODIFIED:20241226T175557Z
UID:4906-1737651600-1737658800@denverspe.org
SUMMARY:January YP Happy Hour
DESCRIPTION:Join us for some happy hour festivities after the lunch and learn session with Tamara Maxwell from Darkvision! \nRegistration is free! \n  \nRegister Here!
URL:https://denverspe.org/event/january-yp-happy-hour/
LOCATION:CO
CATEGORIES:Young Professionals
END:VEVENT
END:VCALENDAR