BEGIN:VCALENDAR
VERSION:2.0
PRODID:-//Denver SPE - ECPv6.15.20//NONSGML v1.0//EN
CALSCALE:GREGORIAN
METHOD:PUBLISH
X-ORIGINAL-URL:https://denverspe.org
X-WR-CALDESC:Events for Denver SPE
REFRESH-INTERVAL;VALUE=DURATION:PT1H
X-Robots-Tag:noindex
X-PUBLISHED-TTL:PT1H
BEGIN:VTIMEZONE
TZID:America/Denver
BEGIN:DAYLIGHT
TZOFFSETFROM:-0700
TZOFFSETTO:-0600
TZNAME:MDT
DTSTART:20240310T090000
END:DAYLIGHT
BEGIN:STANDARD
TZOFFSETFROM:-0600
TZOFFSETTO:-0700
TZNAME:MST
DTSTART:20241103T080000
END:STANDARD
BEGIN:DAYLIGHT
TZOFFSETFROM:-0700
TZOFFSETTO:-0600
TZNAME:MDT
DTSTART:20250309T090000
END:DAYLIGHT
BEGIN:STANDARD
TZOFFSETFROM:-0600
TZOFFSETTO:-0700
TZNAME:MST
DTSTART:20251102T080000
END:STANDARD
BEGIN:DAYLIGHT
TZOFFSETFROM:-0700
TZOFFSETTO:-0600
TZNAME:MDT
DTSTART:20260308T090000
END:DAYLIGHT
BEGIN:STANDARD
TZOFFSETFROM:-0600
TZOFFSETTO:-0700
TZNAME:MST
DTSTART:20261101T080000
END:STANDARD
END:VTIMEZONE
BEGIN:VEVENT
DTSTART;TZID=America/Denver:20250221T080000
DTEND;TZID=America/Denver:20250221T170000
DTSTAMP:20260419T100206
CREATED:20241202T223102Z
LAST-MODIFIED:20250220T001201Z
UID:4625-1740124800-1740157200@denverspe.org
SUMMARY:10th Annual SPE YP Ski Fast Energy Bash
DESCRIPTION:Welcome to the 10TH Annual 2025 SPE YP Ski Fast Energy Convention hosted by the Society of Petroleum Engineers – Denver Section! If you’re a ski or snowboard enthusiast and in the oil & gas industry\, you won’t want to miss this blast of an event! This year we’ll be taking over the slopes of Keystone on February 21st – 23rd\, with tons of skiing\, food\, drinks\, fun\, and great networking throughout the weekend! \nWe hope you will stay the weekend and enjoy the slopes\, great people\, and all the exciting events. Plan to buy tickets for the days you’ll ski; lift tickets are not included in the registration! Busses will depart on Friday Morning and will return late Sunday morning. Feel free to attend any and all events\, even if you don’t ski! \nQuestions? Contact SPE Denver Ski Committee Chairman\, James DeBartolomeis (jamesdebart@gmail.com or 303-518-5285) \nRegistration Options: Register Here \nHousing Bundle (Buy this if you are staying for the weekend) \nThe Housing Bundles include the Friday and Saturday Après Parties\, Food & Beverages at the Mansions\, Roundtrip Bus from Denver to Keystone\, and overnight accommodations from 2/21/25 – 2/23/25 at one of the two mansions. Housing is first come first serve and space is limited. \nMansions: \nSPE Denver YP has secured two mansions right next to each other within walking distance to the slopes. \n \nBeds: \nBachelor Bunks (Shared Room\, Single Bed: Sleeps 1): $500 \nPull-out couches (Living Room\, Single Bed: Sleeps 1): $300 \nIndividual Events (Buy this if you are NOT staying for the weekend or at the Mansions) \nNot staying for the weekend but still want to partake in the festivities? \nFriday Main Après: $80 (The Friday Après Happy Hour includes a 3 hour open bar and food at the base of Keystone.) \nSaturday Après BBQ & Bar Crawl: $80 (The Saturday Après includes a BBQ at the Main Mansion and all drinks/ food on the Bar Crawl) \nWeekend Events: $120 (Both event options for Friday and Saturday) \n  \nSchedule – Brief                                            \n\nFriday\n\n6:30 AM – (For Bus Riders) Breakfast for Bus Riders at RTD Federal Station Lakewood provided by KLX\n7:00 AM – (For Bus Riders) Bus arrives at RTD Federal Station Lakewood to Keystone\n7:30 AM – (For Bus Riders) Bus departs from RTD Federal Station Lakewood to Keystone\n9:00 AM – (For Bus Riders) Bus arrives at Mansions to drop luggage\n11:30 PM – Casual Meetup for Lunch at Summit House (on-your-own/not included)\n12:30 PM – Group Picture @ Summit House\n1:00 PM – Annual Shirtless Run to Friday Après Main Event (Meet at Flying Dutchman Run)\n1:00-4:00 PM – Friday Après Main Event with Bites & Booze at Montezuma Roadhouse (Fireplace Room)\n6:00 PM – Pizza Party at Grand Lodge Mansion\nLate Night – Grand Lodge Mansion After Hours Party – Night 1 – Dress Theme: Canadian Tuxedos\n\n\nSaturday\n\n9:00 AM – Brunch at New Moon Cafe (on-your-own/not included)\n9:00 AM – Ski Fast All Day!! Or hot tub!\n3:30 PM – Après BBQ and Tailgate at Mansion presented by Imperative Chemical Partners\n6:00 PM – Meet at Grand Lodge Mansion – Night 2 – Dress Theme: Yellowstone Western\n6:30 PM – Dinner Party Pub Crawl\n\n6:30-8:00 PM @ 9280’ Sake House\n8:00-9:30 PM @ Rotolos Craft & Crust\n9:30-11:00 PM @ Goat Soup & Whiskey Tavern\n\n\n\n\nSunday\n\n9:00 AM – Casual Breakfast (on-your-own)\n11:00 AM – (For Bus Riders) Sharp Deadline for Bus departure from Mansions to RTD Federal Station (same as pickup)\n\n\n\n  \nKey Addresses \n\nRTD Federal Station Lakewood: 11601 W 2nd Pl\, Lakewood\, CO 80228\nGrand Lodge Mansion (Main Mansion): 0633 Montezuma Rd\, Dillon\, CO 80435\nMansion #2: 669 Montezuma Rd\, Dillon\, CO 80435\nMontezuma Roadhouse: 91 River Run Rd\, Keystone\, CO 80435\n\n  \nLift Tickets \nDon’t forget your lift tickets! Single-day tickets are available for purchase on the Keystone website (https://www.keystoneresort.com/plan-your-trip/lift-access/tickets) or the Epic Pass website (https://www.epicpass.com). We recommend purchasing tickets as soon as possible for pre-season discounts. \n  \nWe look forward to seeing you again this year for the 2025 SPE YP Ski Fast Energy Convention!! \n-SPE Denver\, Young Professionals \nRegister Here
URL:https://denverspe.org/event/10th-annual-spe-yp-ski-fast-energy-bash/
LOCATION:Keystone Resort\, 100 Dercum Square\, Keystone\, Colorado\, 80435
CATEGORIES:Young Professionals
ATTACH;FMTTYPE=image/png:https://denverspe.org/wp-content/uploads/2024/12/SPE-YP-Ski-Trip-LinkedIn-Ad.png
END:VEVENT
END:VCALENDAR