BEGIN:VCALENDAR
VERSION:2.0
PRODID:-//Denver SPE - ECPv6.15.20//NONSGML v1.0//EN
CALSCALE:GREGORIAN
METHOD:PUBLISH
X-ORIGINAL-URL:https://denverspe.org
X-WR-CALDESC:Events for Denver SPE
REFRESH-INTERVAL;VALUE=DURATION:PT1H
X-Robots-Tag:noindex
X-PUBLISHED-TTL:PT1H
BEGIN:VTIMEZONE
TZID:America/Denver
BEGIN:DAYLIGHT
TZOFFSETFROM:-0700
TZOFFSETTO:-0600
TZNAME:MDT
DTSTART:20250309T090000
END:DAYLIGHT
BEGIN:STANDARD
TZOFFSETFROM:-0600
TZOFFSETTO:-0700
TZNAME:MST
DTSTART:20251102T080000
END:STANDARD
BEGIN:DAYLIGHT
TZOFFSETFROM:-0700
TZOFFSETTO:-0600
TZNAME:MDT
DTSTART:20260308T090000
END:DAYLIGHT
BEGIN:STANDARD
TZOFFSETFROM:-0600
TZOFFSETTO:-0700
TZNAME:MST
DTSTART:20261101T080000
END:STANDARD
BEGIN:DAYLIGHT
TZOFFSETFROM:-0700
TZOFFSETTO:-0600
TZNAME:MDT
DTSTART:20270314T090000
END:DAYLIGHT
BEGIN:STANDARD
TZOFFSETFROM:-0600
TZOFFSETTO:-0700
TZNAME:MST
DTSTART:20271107T080000
END:STANDARD
END:VTIMEZONE
BEGIN:VEVENT
DTSTART;TZID=America/Denver:20260402T160000
DTEND;TZID=America/Denver:20260402T190000
DTSTAMP:20260419T134705
CREATED:20260325T160208Z
LAST-MODIFIED:20260331T182137Z
UID:5714-1775145600-1775156400@denverspe.org
SUMMARY:SOCIAL BLEND with Social Octane
DESCRIPTION:Thursday April 2\, 2026 4-7pm \nWynkoop Brewing Co. \n1634 18th Street\, Denver CO \nRegister Here
URL:https://denverspe.org/event/5714/
CATEGORIES:Industry Event,Networking
ATTACH;FMTTYPE=image/png:https://denverspe.org/wp-content/uploads/2026/03/image.png
END:VEVENT
BEGIN:VEVENT
DTSTART;TZID=America/Denver:20260415T113000
DTEND;TZID=America/Denver:20260415T130000
DTSTAMP:20260419T134705
CREATED:20260402T144525Z
LAST-MODIFIED:20260402T144525Z
UID:5722-1776252600-1776258000@denverspe.org
SUMMARY:SPE Denver General Meeting April 2026
DESCRIPTION:A View of the Private US Oil and Gas Market and Potential Implications for L48 Exploration\n1. The private US oil and gas market is currently adequately capitalized but opportunity poor\n1. 25+ funded private equity-backed teams focused on capturing scaled US onshore asset\n2. Target asset profile: meaningful PDP/cashflow + remaining development drilling (inside of well control)\n3. US onshore asset divestiture market opportunity set currently insufficient to satisfy private capital demand\n2. What are the implications?\n1. Many funded teams will not be successful in capturing asset in time allowed\n2. To capture assets\, teams and private capital providers must either accept lower return (i.e. stretch on underwriting) and/or take more risk\n3. Private capital providers can take more risk in the following ways\ni.      Financial risk – take on more acquisition leverage. Capital providers already doing this.\nii.      Location/regime risk – target PDP + development assets in non-US L48 locations/regimes (e.g. Alaska\, Canada\, Argentina\, GOA). Capital providers evaluating this.\niii.      Geologic risk – step outside of well control to find more oil / take “exploration” risk . Capital providers evaluating this.\n3. Conclusion\n1. At this point it is not yet clear to what extent (or when) private capital will pivot to take exploration risk in L48\n2. A changing commodity price regime could provide the catalyst to take more risk and find more oil\n3. Long term $60 WTI strip (as of mid-October) may be insufficient to cause oil supply growth to meet demand if believe US unconventional represents the marginal bbl \nMatt Loreman BIO \nMatt has 20 years of experience in energy industry. Matt is currently President of Development Capital Resources (DCR)\, a firm with over $500 million in oil and gas investments. In addition to DCR\, he simultaneously served as President of ECR\, a company with $800 million in electric generation and gas processing investments. Previously\, Matt served as a Managing Director in Evercore’s Energy Investment Banking group in Houston. While at Evercore\, Matt focused on the upstream space and executed a variety of merger\, acquisition\, divestiture\, capital raising and restructuring transactions. Prior to joining Evercore\, Matt worked in the Energy Investment Banking group of J.P. Morgan in Houston. Matt advised invested and advised clients on transactions in a variety of plays and basins including: Delaware Basin\, Midland Basin\, STACK/SCOOP\, Eagle Ford\, Bakken\, DJ Basin\, Marcellus/Utica\, Barnett\, California\, Rockies Gas\, Haynesville\, GOM and International Offshore. Mr. Loreman has served on the board of directors of 3 privately-held energy companies. Matt holds a B.A. in Economics\, English and Philosophy from Rice University. \n\nRegister Here
URL:https://denverspe.org/event/spe-denver-general-meeting-april-2026/
LOCATION:Rock Bottom Restaurant & Brewery\, 1001 16th Street\, Unit Ste A-100\, Denver\, Colorado\, 80265\, United States
CATEGORIES:General,Technical
ATTACH;FMTTYPE=image/png:https://denverspe.org/wp-content/uploads/2026/04/SPE_TechProg_LinkedIn-6.png
END:VEVENT
BEGIN:VEVENT
DTSTART;TZID=America/Denver:20260423T160000
DTEND;TZID=America/Denver:20260423T180000
DTSTAMP:20260419T134705
CREATED:20260320T192417Z
LAST-MODIFIED:20260320T192511Z
UID:5709-1776960000-1776967200@denverspe.org
SUMMARY:SPE Technical Happy Hour: April 2026
DESCRIPTION:Description\n\nHost: Society of Petroleum Engineers\, Denver Section \nEvent: April 2026 Technical Happy Hour \nTime: April 23\, 4-6pm (HH begins at 4\, Talk at 430\, more Social until 6) \nLocation: Liberty Energy\, 950 17th St\, Suite 2400\, Denver\, CO 80202 \nSponsor: Novi Labs \nStudy Group Category: Data Analytics \nSpeaker: Brett Sinclair\, Research Director\, Novi Labs \nTitle: Meeting the Moment: Using Machine Learning to Assess How the Marcellus and Haynesville will\nSupply Rising Gas Demand \n  \nAbstract:\nOne of the key challenges we face when trying to analyze scenarios that rely on forecasting the\nproduction from future wells\, is how granular we get in forecasting those wells. Traditionally\,\noperators or analysts looking at very specific asset packages will have highly fine-tuned Type\nCurve Areas to hand-select analogous wells\, creating type curves by bench\, by area\, by\nparent/child designation\, and many more cuts of the data. When doing higher-level analysis –\nhow much will a basin produce over time – analysts might use high-level averages of production\nper well or per rig (or frac crew) across an entire region or basin. \nAt Novi\, we train machine learning models across dozens of features that include subsurface\ngeotechnical attributes\, wellbore and completion design\, well spacing\, and how much prior\ndepletion a future well would experience based on its drainage radius and the amount of\nresource extracted thus far. \nThis provides individual well-level production forecasts custom to each potential location that\ncan be used for extremely focused analysis or high-level macro analysis and everything in\nbetween. It also gets rid of the machine learning “black box” and explains the variation from\naverage in a well’s predicted performance due to different geological\, spacing\, completion\, or\ndepletion features. \nIn this presentation\, we will utilize Novi’s proprietary machine learning-derived inventory\nforecasts to analyze how the Marcellus and the Haynesville are each positioned to supply the\nincreased natural gas demand coming from power generation (largely from data centers) and\nLNG export terminals. How much inventory is left\, and what is the quality of that inventory? \nWhich companies are best positioned\, not only in the near term but for the foreseeable future?\nHow have activity levels responded to structural shifts in demand? \nWe will attempt to show that we don’t have to sacrifice well-level forecast accuracy for scale\,\nand that a machine learning approach also improves individual forecast accuracy while at the\nsame time saving time\, providing the analyst more scope to analyze the forecast’s impact\ninstead of in its derivation. \n  \n  \nBio:\nBrett Sinclair is a Research Director at Novi Labs\, where he focuses on applying the outputs of\nNovi’s data and machine learning analytics platform to US upstream oil and gas research. \nPrior to Novi\, Brett spent 10 years at Kimmeridge Energy in the Investment and Operations\nteams. At Kimmeridge\, Brett and his team conducted analysis and research from technical\,\noperational\, and investment perspectives\, to understand the energy landscape\, to develop and\nexplore investment theses\, to underwrite deals\, and to directly manage portfolio assets. \nPrior to Kimmeridge\, Brett worked as a Directional Driller for Baker Hughes\, drilling horizontals\nin the US Lower 48\, the Alaskan North Slope\, and Saudi Arabia. \nBrett has a bachelor’s degree in mechanical engineering and an MBA\, both from the University\nof Oklahoma. \n  \n  \nSpeaker Photo: \n \n\n  \n  \nRegister Here
URL:https://denverspe.org/event/spe-technical-happy-hour-april-2026/
LOCATION:Liberty Energy\, 950 17th St Suite #24\, Denver\, CO\, 80202\, United States
CATEGORIES:Study Groups,Technical
ATTACH;FMTTYPE=image/png:https://denverspe.org/wp-content/uploads/2026/03/SPE_TechProg_LinkedIn-5.png
END:VEVENT
BEGIN:VEVENT
DTSTART;TZID=America/Denver:20260507T160000
DTEND;TZID=America/Denver:20260507T190000
DTSTAMP:20260419T134705
CREATED:20260413T171729Z
LAST-MODIFIED:20260413T172013Z
UID:5726-1778169600-1778180400@denverspe.org
SUMMARY:SPE Denver Business Development Happy Hour: May 2026
DESCRIPTION:About the Session \n\n\nJoin us for our section’s second 2026 Business Development Happy Hour\, featuring a panel discussion moderated by Zack Warren on “Asset-Backed Securities for E&P Financing: Fad\, or the Future?”. Industry leaders Mitch Ayer\, Brian Lanier\, Anthony Odem\, and Hendrick Schroeder will share insights on the recent explosion in the use of Asset-Backed Securities for E&P financing. Several billion dollars have been raised using this method in the last couple of years\, upending the market for O&G assets. Each of our panelists has been involved in multiple of these transactions. Following up on the successful panel we held in March\, come for an honest discussion of the impact of the ABS market and what to look forward to in the future. \n\n\nRegister Here
URL:https://denverspe.org/event/spe-denver-business-development-happy-hour-may-2026/
LOCATION:Liberty Energy\, 950 17th St Suite #24\, Denver\, CO\, 80202\, United States
CATEGORIES:Networking
ORGANIZER;CN="SPE Denver Section":MAILTO:denversection@spemail.org
END:VEVENT
END:VCALENDAR