BEGIN:VCALENDAR
VERSION:2.0
PRODID:-//Denver SPE - ECPv6.15.20//NONSGML v1.0//EN
CALSCALE:GREGORIAN
METHOD:PUBLISH
X-ORIGINAL-URL:https://denverspe.org
X-WR-CALDESC:Events for Denver SPE
REFRESH-INTERVAL;VALUE=DURATION:PT1H
X-Robots-Tag:noindex
X-PUBLISHED-TTL:PT1H
BEGIN:VTIMEZONE
TZID:America/Denver
BEGIN:DAYLIGHT
TZOFFSETFROM:-0700
TZOFFSETTO:-0600
TZNAME:MDT
DTSTART:20220313T090000
END:DAYLIGHT
BEGIN:STANDARD
TZOFFSETFROM:-0600
TZOFFSETTO:-0700
TZNAME:MST
DTSTART:20221106T080000
END:STANDARD
BEGIN:DAYLIGHT
TZOFFSETFROM:-0700
TZOFFSETTO:-0600
TZNAME:MDT
DTSTART:20230312T090000
END:DAYLIGHT
BEGIN:STANDARD
TZOFFSETFROM:-0600
TZOFFSETTO:-0700
TZNAME:MST
DTSTART:20231105T080000
END:STANDARD
BEGIN:DAYLIGHT
TZOFFSETFROM:-0700
TZOFFSETTO:-0600
TZNAME:MDT
DTSTART:20240310T090000
END:DAYLIGHT
BEGIN:STANDARD
TZOFFSETFROM:-0600
TZOFFSETTO:-0700
TZNAME:MST
DTSTART:20241103T080000
END:STANDARD
END:VTIMEZONE
BEGIN:VEVENT
DTSTART;TZID=America/Denver:20231205T074500
DTEND;TZID=America/Denver:20231205T120000
DTSTAMP:20260419T185815
CREATED:20231110T021515Z
LAST-MODIFIED:20231116T174645Z
UID:2944-1701762300-1701777600@denverspe.org
SUMMARY:Science Fair Judges Needed
DESCRIPTION:  \nJudges Needed! \nJoin fellow members and judge the 8th grade science fair.
URL:https://denverspe.org/event/science-fair-judges-needed/
LOCATION:Skinner Middle School\, 3435 W 40th Ave\, Denver\, TX\, 80211\, United States
CATEGORIES:Outreach
END:VEVENT
BEGIN:VEVENT
DTSTART;TZID=America/Denver:20231213T113000
DTEND;TZID=America/Denver:20231213T130000
DTSTAMP:20260419T185815
CREATED:20231121T203854Z
LAST-MODIFIED:20231129T182706Z
UID:2970-1702467000-1702472400@denverspe.org
SUMMARY:December GM: Optimizing Stage Lengths by Leveraging Fracture Interference
DESCRIPTION:Optimizing Stage Lengths by Leveraging Fracture Interference: \n  \nObjectives/Scope: This paper covers a case study in the Denver-Julesburg (DJ) Basin that reveals stage lengths can be dynamically varied when wells are tightly spaced to optimize pad drainage and completion cost in homogeneous rock strata. Alternating stage designs in offset wells can support increased stage lengths up to 6x standard (exceeding 1\,000 ft) and still treat and produce as uniformly as smaller stages\, due to the cooperative effect of the overlapping fracture network created by neighboring infill wells. These findings were corroborated by fiber optic data acquired during frac (cross-well strain) and post-flowback production monitoring and interference testing. We also observed Formations within damage zones altered from faults can affect drainage results. \nMethods\, Procedures\, Process: Differing stage lengths (X\, 2X\, 3X and 6X) were trialed in three wells in a six well section.  Fiber optic diagnostics were acquired during frac for cross-well strain evaluation and 60 days post-flowback for production monitoring and interference testing. Locations and extent of fracture interactions were observed during the fracturing process\, and later compared to the production and interference testing results after flowback. \nResults\, Observations\, Conclusions: The post-completion diagnostics corroborated the during frac cross-well strain data. Interference testing reveals communication as well as unique geological features in the areas identified by the cross-well strain data. There is little if any difference in cross-well strain or production behavior of standard-length X stages offset by X stage lengths and X offset by 2X or 3X stage lengths. Performance of the 3X and 6X stages is nearly identical to the X stage lengths\, in both production and interference from a uniformity and production volume. \nNovel/Additive Information: When wells are known to interfere or communicate\, completion designs can be modified dynamically to work with overlapping stage designs\, optimizing completion costs without sacrificing treatment uniformity nor production. Stage lengths of offset wells\, depending on the play and geologic structure\, may be dramatically larger than previously thought when offset against smaller stages\, while still allowing for sufficient reservoir access and drainage\, leading to reduced pad development time. \n  \n Registration: Click HERE \n  \nBIO: \n  \n \n  \n  \nEvan Rodgers \nProduction Engineer at Chevron Rockies (former Reservoir Engineer at PDC Energy). \n  \nEvan Rodgers is a Petroleum Engineer from the Colorado School of Mines\, class of 2012\, currently working as a Production Engineer for Chevron in their Rockies business unit within the DJ basin. He has held additional roles outside of Chevron within Reservoir and Completions engineering in various basins including the Utica Shale\, Piceance\, and DJ basin. He has been a part of both exploration and developmental teams along with projects varying from single well de-liquification to basin-wide reservoir delineation. His interest gravitates towards acknowledging how much we do not fully understand\, especially around the technical aspects we think we do. He uses this approach to set his mindset while designing\, analyzing\, or proposing a field experiment.
URL:https://denverspe.org/event/december-gm-optimizing-stage-lengths-by-leveraging-fracture-interference/
LOCATION:Fogo de Chao\, 1513 Wynkoop st\, Denver\, 80202\, United States
CATEGORIES:General
END:VEVENT
BEGIN:VEVENT
DTSTART;TZID=America/Denver:20231214T113000
DTEND;TZID=America/Denver:20231214T130000
DTSTAMP:20260419T185815
CREATED:20231205T020159Z
LAST-MODIFIED:20231214T010258Z
UID:2997-1702553400-1702558800@denverspe.org
SUMMARY:YP Lunch and Learn - PERFectly Stressed Out: Surface and Downhole Imaging Relations
DESCRIPTION:PERFectly Stressed Out: Surface and Downhole Imaging Relations\nAbstract\nSo many guns and so many charges – how can an operator make quick design change decisions with confidence for gun and charge system performance in the wellbore? Typically\, the industry tests gun and charge performance at the surface\, assuming that the systems will perform similarly downhole. Through multiple studies\, it has been shown that this is not always the case (Horton 2021\, Roberts et al\, 2022). Another consideration is the advertised performance specifications versus measured performance (Cramer et al\, 2023). Many operators design their gun systems to target a prescribed perforation friction based on performance drivers like stage length\, horsepower available on location\, casing specs\, etc. A problem arises when designing in this manner – the industry changes its mind constantly as we learn. When a design change occurs\, it may be prudent to confirm how systems are performing with diagnostic tools like a camera or ultrasonic imaging. These tools are insightful but expensive\, require a wellbore\, and take time.   \n  \n Speaker Bio\nDugan is a Completion Engineer focusing on projects that enhance stimulation and returns at Ovintiv. Leveraging his previous experience in Production\, Drilling\, and Reservoir\, Dugan works with multiple disciplines to design\, execute\, and analyze experiments in the Midland Basin. He received his B.S. in Mechanical Engineering and M.B.A. from the University of Wyoming. \n  \nREGISTER HERE
URL:https://denverspe.org/event/yp-lunch-and-learn/
LOCATION:Liberty Energy\, 950 17th St Suite #24\, Denver\, CO\, 80202\, United States
CATEGORIES:Young Professionals
END:VEVENT
BEGIN:VEVENT
DTSTART;TZID=America/Denver:20231214T183000
DTEND;TZID=America/Denver:20231214T210000
DTSTAMP:20260419T185815
CREATED:20231104T091511Z
LAST-MODIFIED:20231212T184505Z
UID:2777-1702578600-1702587600@denverspe.org
SUMMARY:SPE YP Holiday Party
DESCRIPTION:SPE Young Professionals Holiday Party \n \nSave the Date for our Holiday Party \nRegister Here
URL:https://denverspe.org/event/spe-yp-holiday-party/
LOCATION:Snobahn Indoor Ski + Snowboard Center\, 6955 S York St. #404\, Centennial\, CO\, 80122\, United States
CATEGORIES:Young Professionals
END:VEVENT
BEGIN:VEVENT
DTSTART;TZID=America/Denver:20231219T064500
DTEND;TZID=America/Denver:20231219T083000
DTSTAMP:20260419T185815
CREATED:20230815T183910Z
LAST-MODIFIED:20230815T183910Z
UID:2630-1702968300-1702974600@denverspe.org
SUMMARY:Volunteer at the Denver Rescue Mission
DESCRIPTION:  \nPlease help SPE Denver Section give back to the Denver Rescue Mission by serving breakfast at their Lawrence Street location. \n  \nPlease arrive by 6:45 and plan to stay till 8:30 \n  \nFor more info Contact Nicolas Cosca at Nicolas.Cosca@hpinc.com
URL:https://denverspe.org/event/volunteer-at-the-denver-rescue-mission-9/
LOCATION:Denver Rescue Mission\, 2222 Lawrence St\, Denver\, CO\, 80205\, United States
CATEGORIES:Outreach
END:VEVENT
END:VCALENDAR