BEGIN:VCALENDAR
VERSION:2.0
PRODID:-//Denver SPE - ECPv6.15.20//NONSGML v1.0//EN
CALSCALE:GREGORIAN
METHOD:PUBLISH
X-ORIGINAL-URL:https://denverspe.org
X-WR-CALDESC:Events for Denver SPE
REFRESH-INTERVAL;VALUE=DURATION:PT1H
X-Robots-Tag:noindex
X-PUBLISHED-TTL:PT1H
BEGIN:VTIMEZONE
TZID:America/Denver
BEGIN:DAYLIGHT
TZOFFSETFROM:-0700
TZOFFSETTO:-0600
TZNAME:MDT
DTSTART:20250309T090000
END:DAYLIGHT
BEGIN:STANDARD
TZOFFSETFROM:-0600
TZOFFSETTO:-0700
TZNAME:MST
DTSTART:20251102T080000
END:STANDARD
BEGIN:DAYLIGHT
TZOFFSETFROM:-0700
TZOFFSETTO:-0600
TZNAME:MDT
DTSTART:20260308T090000
END:DAYLIGHT
BEGIN:STANDARD
TZOFFSETFROM:-0600
TZOFFSETTO:-0700
TZNAME:MST
DTSTART:20261101T080000
END:STANDARD
BEGIN:DAYLIGHT
TZOFFSETFROM:-0700
TZOFFSETTO:-0600
TZNAME:MDT
DTSTART:20270314T090000
END:DAYLIGHT
BEGIN:STANDARD
TZOFFSETFROM:-0600
TZOFFSETTO:-0700
TZNAME:MST
DTSTART:20271107T080000
END:STANDARD
END:VTIMEZONE
BEGIN:VEVENT
DTSTART;TZID=America/Denver:20260311T113000
DTEND;TZID=America/Denver:20260311T130000
DTSTAMP:20260419T061125
CREATED:20260302T193321Z
LAST-MODIFIED:20260303T163053Z
UID:5689-1773228600-1773234000@denverspe.org
SUMMARY:SPE Denver General Meeting: March 2026
DESCRIPTION:Title: Formation-Informed Performance: Closing the Loop Between Geology\, Drilling\, and Completions. \nAuthor: Erin Britton\, Drilling Solutions Engineering Team Lead\, CORVA \nSession Overview: \nAs unconventional development programs mature\, optimizing well performance requires tighter integration between geoscience\, drilling\, and completions teams. Yet zone placement decisions often overlook formation-level variability that directly impacts ROP\, MSE\, vibration\, and overall drilling efficiency. Bridging this gap demands a unified view of subsurface context and real-time performance data. \nThis presentation introduces a unified geosteering\, drilling\, and completions solution designed to provide a single source of truth across disciplines. Geo Insights enables teams to identify the optimal “sweet spot” within the drilling window by pairing stratigraphic context with real-time KPIs such as ROP\, MSE\, vibration\, and effective in-zone footage. Teams can remove structural bias\, reveal true drilling equivalency\, and benchmark performance with confidence. Synchronized views create a collaborative workspace that standardizes best practices and improves cross-functional decision making. \nA Canadian operator case study will highlight how integrating geoscience insights directly into drilling workflows accelerated curve-to-lateral execution by approximately 2.75 days versus offsets\, delivered ~$300\,000 in savings per well\, stabilized ROP\, reduced MSE\, and improved zone placement consistency. By closing the loop with completions data to identify stratigraphic intervals linked to troublesome stages and NPT\, Geo Insights enables faster lessons learned and improved reliability across the development program. Attendees will gain practical insight into how integrated geoscience and analytics can drive measurable performance gains and cost savings in modern drilling operations. \nBio: \nErin Britton is the Drilling Solutions Engineering Team Lead and Geoscience SME at Corva\, she is based in Denver\, Colorado. With a 16-year career spanning drilling engineering\, asset management\, operations leadership\, and consulting\, Erin has focused on integrating formation understanding with real-time performance data to reduce NPT\, improve zone placement\, and standardize best practices across development programs. Prior to Corva\, Erin held engineering and leadership roles at Anschutz Exploration Corporation\, Sundance Energy\, Liberty Resources\, Unit\, and Ovintiv (Encana)- including Director of Engineering & Operations and Senior Staff Drilling Engineer positions supporting large-scale development and optimization initiatives. Erin earned a B.S. in Petroleum Engineering from the University of Oklahoma and a Master’s in Business & Energy from the University of Tulsa. \n  \nRegister Here
URL:https://denverspe.org/event/spe-denver-general-meeting-march-2026/
LOCATION:Rock Bottom Restaurant & Brewery\, 1001 16th Street\, Unit Ste A-100\, Denver\, Colorado\, 80265\, United States
CATEGORIES:General,Technical
ATTACH;FMTTYPE=image/png:https://denverspe.org/wp-content/uploads/2026/03/SPE_TechProg_LinkedIn-3.png
ORGANIZER;CN="SPE Denver Section":MAILTO:denversection@spemail.org
END:VEVENT
BEGIN:VEVENT
DTSTART;TZID=America/Denver:20260311T160000
DTEND;TZID=America/Denver:20260311T180000
DTSTAMP:20260419T061125
CREATED:20260302T193034Z
LAST-MODIFIED:20260302T193118Z
UID:5686-1773244800-1773252000@denverspe.org
SUMMARY:SPE Technical Happy Hour: March 2026
DESCRIPTION:Description\n\nSponsor: Liberty Energy \nStudy Group Category: Drilling \nSpeaker: Marc Willerth\, Technology Development Manager\, Helmerich & Payne \nTitle: Getting the Most From Your Last Mile \nAbstract: \n  \nIn recent years\, the pace and complexity of North American drilling has been rapidly\naccelerating. Four-mile step-outs and 180-degree U-turns are quickly becoming the “new\nnormal”\, along with the expectation of delivering drilling speeds of 7000ft/day or more. Lurking\nin the background is the influence of the strongest magnetic storms in over 2 decades\ndisturbing the survey tools that are used to steer these wells.\nThis presentation looks at some of the growing challenges with wellbore placement for novel\nwell designs such as how lateral spacing uncertainty grows when typical drilling and surveying\npractices are applied to extremely long laterals or horseshoe wells\, and how pace of drilling can\nexacerbate the potential impact of magnetic storms. The relative value of enhanced positional\naccuracy is considered\, estimating the increasing lost potential production from each lateral\nmile due to the uncertainty in wellbore placement. It will also discuss how spacing uncertainty\ntrends differ when drilling U-turn wells compared to traditional in-fill drilling campaigns\, along\nwith a discussion of how to properly manage anti-collision for U-turn wells. \nBio: \n  \nMarc is a Technology Development Manager at Helmerich & Payne\, overseeing a research team\nworking on wellbore positioning\, drilling simulation\, condition-based maintenance\, and\nintegrated drilling-geology solutions. He joined H&P in 2017 as part of the MagVAR acquisition\nand prior to that has worked for Scientific Drilling and SLB. He has co-authored over 25\npublications in OnePetro and several patents primarily in the drilling\, geology\, and wellbore\nplacement spaces. Marc is an active member of SPE\, currently serving on the JPT editorial \nreview board as well as being the Error Model chair for the SPE Wellbore Positioning Technical\nSection (also known as the ISCWSA). He holds a bachelor’s degrees in Chemistry and Chemical \n\n  \nRegister Here
URL:https://denverspe.org/event/spe-denver-technical-happy-hour-drilling-march-2026/
LOCATION:Liberty Energy\, 950 17th St Suite #24\, Denver\, CO\, 80202\, United States
CATEGORIES:Technical
ORGANIZER;CN="SPE Denver Section":MAILTO:denversection@spemail.org
END:VEVENT
BEGIN:VEVENT
DTSTART;TZID=America/Denver:20260319T113000
DTEND;TZID=America/Denver:20260319T130000
DTSTAMP:20260419T061125
CREATED:20260302T193953Z
LAST-MODIFIED:20260311T022809Z
UID:5693-1773919800-1773925200@denverspe.org
SUMMARY:SPE YP Lunch & Learn: March 2026
DESCRIPTION:Title: Introduction to Carbon Capture Utilization and Storage. \nAuthor: Lilli Peters\, Project Manager CCUS\, CARBONVERT \n  \nRegister Here \n  \nLocation: Denver Earth Resources Library
URL:https://denverspe.org/event/spe-yp-lunch-learn-march-2026/
LOCATION:Denver Earth Resources Library\, 730 17th Street Suite B1\, Denver\, CO\, 80202\, United States
CATEGORIES:Young Professionals
END:VEVENT
BEGIN:VEVENT
DTSTART;TZID=America/Denver:20260319T163000
DTEND;TZID=America/Denver:20260319T180000
DTSTAMP:20260419T061125
CREATED:20260302T194621Z
LAST-MODIFIED:20260311T022944Z
UID:5695-1773937800-1773943200@denverspe.org
SUMMARY:SPE Denver/AADE March Madness Happy Hour 2026
DESCRIPTION:TBD \n  \nRegister Here
URL:https://denverspe.org/event/spe-denver-aade-march-madness-happy-hour-2026/
LOCATION:Rhein Haus – Denver\, 1415 Market St\, Denver\, 80202\, United States
CATEGORIES:Networking
END:VEVENT
END:VCALENDAR